BEGIN:VCALENDAR
VERSION:2.0
PRODID:-//tapahtumainfo.fi//NONSGML VUONNA 85 KONSERTTI - FINAL COUNTDOWN//EN
METHOD:REQUEST
BEGIN:VEVENT
UID:20260423T182436-1456726287-tapahtumainfo.fi
DTSTAMP:20260423T182436
DTSTART:20160903T190000Z
DTEND:20160903T020000Z
LOCATION:TTT Suuri näyttämö
SUMMARY:VUONNA 85 KONSERTTI - FINAL COUNTDOWN
DESCRIPTION:<html><head></head><body><b>Elä se uudelleen!</b><br>Mauno Peppone, Tommi Turmiola, Palle, Karoliina ja muut Vuonna 85- musikaalin unohtumattomat hahmot nousevat vielä kerran yhdessä Tampereen Työväen Teatterin lavalle viihdyttämään ja ilahduttamaan manserokin faneja. Konsertti on aikamatka ja kunnianosoitus Riku Suokkaan ja Heikki Syrjän käsikirjoittamalle Vuonna 85 -musikaalille. Sen ensi-illasta tulee ensi syksynä kuluneeksi kymmenen vuotta.<br>Lavalla ilakoivat Sami Hintsanen, Mikko Nousiainen, Kaisa Hela, Emmi Kaislakari, Petra Karjalainen, Jari Ahola, Petra Ahola, Mika Honkanen, Ilkka A. Jokinen, Jari Leppänen, Antti Seppä, Kristiina Hakovirta ja Juha Junttu ja Alabama House Band. Kapellimestarina toimii Pekka Siistonen.<br><br>Illan kruunaa Kasaribileet, jossa bändinä on se ainoa oikea Alabama House Band ja Go Go Girls. <br /><br />  Visit event in our website: <a href='https://tapahtumainfo.fi/tapahtuma/2016/09/vuonna-85-konsertti-final-countdown/141864'>Tapahtumainfo.fi</a></body></html>
END:VEVENT
END:VCALENDAR
