BEGIN:VCALENDAR
VERSION:2.0
PRODID:-//tapahtumainfo.fi//NONSGML Alasti-klubi: Sanni//EN
METHOD:REQUEST
BEGIN:VEVENT
UID:20260423T183357-497713744-tapahtumainfo.fi
DTSTAMP:20260423T183357
DTSTART:20160407T020000Z
DTEND:20160407T020000Z
LOCATION:Virgin Oil Co.
SUMMARY:Alasti-klubi: Sanni
DESCRIPTION:<html><head></head><body>Alasti-klubi: Sanni<br /><br /><p><strong>Showtime klo 20:00</strong></p><br /><p><strong>Alennuksiin oikeuttavat kortit tarkastetaan ovella.</strong></p><br /><p><strong>Ovella perit&auml;&auml;n eteispalvelumaksu.    <br /></strong></p><br /><p><strong><br /></strong></p> <br /><br />  Visit event in our website: <a href='https://tapahtumainfo.fi/tapahtuma/2016/04/alasti-klubi-sanni/145344'>Tapahtumainfo.fi</a></body></html>
END:VEVENT
END:VCALENDAR
