BEGIN:VCALENDAR
VERSION:2.0
PRODID:-//tapahtumainfo.fi//NONSGML KUOPION UUSI KES//EN
METHOD:REQUEST
BEGIN:VEVENT
UID:20260422T192931-1440445182-tapahtumainfo.fi
DTSTAMP:20260422T192931
DTSTART:20160702T190000Z
DTEND:20160702T020000Z
LOCATION:Teatteriareena
SUMMARY:KUOPION UUSI KES
DESCRIPTION:<html><head></head><body>Kuopion Uusi Kesäteatteri juhlistaa kesää 2016 ikimuistoisella kantaesityksellä. Laulunäytelmä kertoo suomalaisten ikiomasta sankarista, yhteisöllisyyden vahvistajasta, miehestä, joka oli elokuvatähti, laulaja, olympiavoittaja, maailmanmestari ja ahkera työmies.<br><br>Aikuisen Tapio Rautavaaran roolissa karismaattinen näyttelijä-laulaja <b>Sami Kojonen</b>, vaimo Liisa Rautavaaran tunnettu näyttelijä, laulaja sekä sanoittaja <b>Kaija Kärkinen</b> ja nuoren Tapsan roolissa Tampereella näyttelijäksi opiskeleva <b>Atte Antikainen</b>, musiikkimaailman värikkäitä persoonia ja muita aikakauden henkilöhahmoja tulkitsevat muuntautumistaitoiset näyttelijät <b>Tiina Paakko</b> ja <b>Lasse Forsgren</b>. Lavalla lisäksi nuoria valovoimaisia näyttelijöitä. <br><br>Käsikirjoitus: <i>Johanna Keinänen-Sami Kojonen-Kimmo Virtanen</i> <br>Ohjaus: <i>Johanna Sorjonen</i> <br>Koreografia: <i>Virve Varjos </i><br>Pukusuunnittelu: <i>Janina Seppänen</i> <br>Tuottaja: <i>Juha Kojonen </i><br><br><b>Kuopion Uuden Kesäteatterin seitsemäs toimintavuosi tempaa mukaansa nostalgiselle musiikkimatkalle. Varaa lippusi nyt unohtumattomaan musikaaliin Kuopion Rauhalahden täysin katetulle teatteriareenalle.</b> <br /><br />  Visit event in our website: <a href='https://tapahtumainfo.fi/tapahtuma/2016/07/kuopion-uusi-kesateatteri-tapsan-tahti/149953'>Tapahtumainfo.fi</a></body></html>
END:VEVENT
END:VCALENDAR
