BEGIN:VCALENDAR
VERSION:2.0
PRODID:-//tapahtumainfo.fi//NONSGML TERAPIAN TARPEESSA//EN
METHOD:REQUEST
BEGIN:VEVENT
UID:20260424T192736-1422185846-tapahtumainfo.fi
DTSTAMP:20260424T192736
DTSTART:20170424T190000Z
DTEND:20170424T020000Z
LOCATION:Lappeenrannan kaupunginteatteri, suuri näyttämö
SUMMARY:TERAPIAN TARPEESSA
DESCRIPTION:<html><head></head><body>Kirpeä komedia<br><br><b>Terapian tarpeessa</b><br><br>Käsikirjoitus <b>Sari Havas</b><br>Ohjaus<b> Samuli Reunanen</b><br>Näyttelijät<b> Sari Havas </b>ja<b> Pauliina Hukkanen</b><br>Musiikki <b>Altti Uhlenius</b><br>Koreografiat<b> Jenni Rautawaara</b><br>Tuotanto <b>Näytellä ja Näprätä/Pauliina Hukkanen</b><br>Kantaesitys 10.6.2015 Kuninkaankartanon kesäteatteri<br><br>Terapian tarpeessa on musiikilla höystetty, elämän makuinen sessio, jossa nauruhermoja koetellaan ja tunnelautat laitetaan liikkeelle.<br><br>Elämä yllättää ja tuo yhteen kaksi naista, Aila Sydänvalon ja Kaisa Alahämärän. Toinen on terapeutti, toinen ruuhkavuosissa pyörivä perheenäiti ja vaimo. Toinen pelkää yksinäisyyttä, toinen haluaisi joskus nukkua kunnolla. Molemmille miehen kosketus on jo niin kaukainen asia, että se on melkein mahdotonta enää kuvitella.<br><br>Molempien naisten elämän solmukohdat alkavat aukeilla, välillä terapeuttisesti katsoen arveluttavillakin keinoilla. Mutta aukeaako nyörit, putoavatko kahleet vai löytyvätkö voimaeläimet? Ja kuka söi voisilmäpullan?<br><i><br>”Kiitos ihanan terapeuttisesta illasta. Nauratti ja itketti, joten joka solu sai jotain. Esitys kosketti syvältä ja laittoi ajattelemaan omia tulppia. Hyvä muistutus siitä, että elämä on tässä ja nyt. Huominen on ylihuomenna eilinen. Olitte niiin ihania!!!</i>” (katsojapalaute)<br><br>Suurella näyttämöllä<br>ma 24.4. klo 19<br><br> <br /><br />  Visit event in our website: <a href='https://tapahtumainfo.fi/tapahtuma/2017/04/terapian-tarpeessa/162649'>Tapahtumainfo.fi</a></body></html>
END:VEVENT
END:VCALENDAR
