BEGIN:VCALENDAR
VERSION:2.0
PRODID:-//tapahtumainfo.fi//NONSGML RUISROCK 2017//EN
METHOD:REQUEST
BEGIN:VEVENT
UID:20260422T193012-1844787419-tapahtumainfo.fi
DTSTAMP:20260422T193012
DTSTART:20170707T000100Z
DTEND:20170707T020000Z
LOCATION:Ruissalon kansanpuisto
SUMMARY:RUISROCK 2017
DESCRIPTION:<html><head></head><body><b>Sean Paul, Lil Uzi Vert ja Jens Lekman täydentävät Ruisrockin kansainvälistä kattausta.</b><br><br>Grammy-palkittu räppäri, dancehall- ja reggae-artist<b>i Sean Paul</b> nähdään Ruissalossa ensi kesänä. Jamaikalaisartistin tunnetuimpia hittejä ovat muun muassa<i> No Lie, Gimme the Light, Get Busy, Temperature</i> ja<i> We Be Burning</i>. Sean Paul on tunnettu myös yhteistöistään Beyoncén, Rihannan, Sian ja Clean Banditin kanssa.<br><br>Myös amerikkalaisen hip hopin kuuma nimi <b>Lil Uzi Vert</b> tulee Ruisrockiin. Vasta 22-vuotias artisti nousi musiikkimaailman tietoisuuteen julkaistuaan debyyttisinglensä<i> Money Longer</i>. Lil Uzi Vert on tehnyt yhteistyötä muun muassa ajankohtaisen jenkkiräppärin Migosin kanssa ja yhteistyön tulos <i>Bad and Boujee</i> -single nousi Billboard Hot 100 -listalle.<br><br>Göteborgista Turkuun saapuu Jonathan Richmaniin ja Belle & Sebastianiin verrattu ruotsalainen laulaja-lauluntekijä <b>Jens Lekman</b>. Ruisrockin indiepop-tarjontaa vahvistava Lekman julkaisi tammikuussa uuden menestysalbumin viiden vuoden tauon jälkeen, ja sinkku <i>What's That Perfume That You Wear</i> vakuutti fanit.<br><br>Ruisrockin kotimaista tarjontaa täydentävät <b>CMX, Kasmir, Litku Klemetti, Teflon Brothers</b> ja<b> Töölön Ketterä</b>.<br><br>Lue lisää artisteista Ruisrockin verkkosivuilta.<br><br><b>Koko ohjelma: KYGO (NOR), DJ SNAKE (FR), MARTIN GARRIX (NL), PROFEETAT, ULTRA BRA, TRAVIS SCOTT (USA), ANNE-MARIE (UK), BASTILLE (UK), GALANTIS (SWE), JENS LEKMAN (SWE), LIL UZI VERT (USA), MAC MILLER (USA), SEAN PAUL (JAM), STORMZY (UK), TOVE LO (SWE), TYGA (USA), ZARA LARSSON (SWE), ANTTI TUISKU, DISCO ENSEMBLE, HALOO HELSINKI!, JENNI VARTIAINEN, JVG, KAIJA KOO, POPEDA, SANNI, VESALA, ALEX MATTSON, ALMA, ANSSI KELA, CMX, DARUDE, D.R.E.A.M., ELIAS GOULD, ELLINOORA, EVELINA, GASELLIT, KASMIR, KAURIINMETSÄSTÄJÄT, KC/MD MAFIA, KINGFISH, DIISON & PASTORIPIKE, KUBE, LITKU KLEMETTI, NIKKE ANKARA, PARIISIN KEVÄT, PETE PARKKONEN, ROOPE SALMINEN & KOIRAT, SATELLITE STORIES, SONNY, TIISU, TIPPA-T, TÖÖLÖN KETTERÄ, THE HOLY, VESTA</b><br><br>www.ruisrock.fi<br>www.facebook.com/ruisrock<br>www.instagram.com/ruisrock<br>twitter.com/ruisrockturku<br><br><b>Ruisrock Festival</b><br>Järjestyksessään 48. Ruisrock järjestetään Turun Ruissalossa 7.–9.7.2017. Viime vuonna festivaali keräsi ennätykselliset 100 000 kävijää. Ruisrock on palkittu jo kolmena vuonna peräkkäin Vuoden festivaaliksi Musiikki & Median Industry Awards -gaalassa. <br /><br />  Visit event in our website: <a href='https://tapahtumainfo.fi/tapahtuma/2017/07/ruisrock-2017/167514'>Tapahtumainfo.fi</a></body></html>
END:VEVENT
END:VCALENDAR
