BEGIN:VCALENDAR
VERSION:2.0
PRODID:-//tapahtumainfo.fi//NONSGML ILOVAARIROCK 2017//EN
METHOD:REQUEST
BEGIN:VEVENT
UID:20260420T172710-2049232239-tapahtumainfo.fi
DTSTAMP:20260420T172710
DTSTART:20170708T160000Z
DTEND:20170708T020000Z
LOCATION:Ilosaari
SUMMARY:ILOVAARIROCK 2017
DESCRIPTION:<html><head></head><body><b>Ilovaarirock 2017</b><br>Tapahtumapaikka Ilosaari, Joensuu<br>Aika 8.7. klo 16:00 - 01:00, portit aukeavat klo 15:30<br>Alue K-18v.<br><br>Esiintyjiä: Melrose, Anssi Tikanmäen Orkesteri, Maarit, Jiri Nikkinen The Beatles Tribute<br><br><a href="http://http://www.ilovaarirock.fi/" target="_blank">www.ilovaarirock.fi</a> <br /><br />  Visit event in our website: <a href='https://tapahtumainfo.fi/tapahtuma/2017/07/ilovaarirock-2017/168230'>Tapahtumainfo.fi</a></body></html>
END:VEVENT
END:VCALENDAR
