BEGIN:VCALENDAR
VERSION:2.0
PRODID:-//tapahtumainfo.fi//NONSGML HEINÄHATTU, VILTTITOSSU JA RUBENSIN VELJEKSET//EN
METHOD:REQUEST
BEGIN:VEVENT
UID:20260423T182447-1108648839-tapahtumainfo.fi
DTSTAMP:20260423T182447
DTSTART:20170724T180000Z
DTEND:20170724T020000Z
LOCATION:Taaborinvuori
SUMMARY:HEINÄHATTU, VILTTITOSSU JA RUBENSIN VELJEKSET
DESCRIPTION:<html><head></head><body><b>Heinähattu, Vilttitossu ja Rubensin veljekset</b><br><br>Taaborinvuoren kesäteatteri on jo käsite Taavi vartian ohjaamien laadukkaiden kokoperheen näytelmien kesäisenä esityspaikkana. Niissä on oma vahva ”leffantekijän kädenjäki”, kuten yleisö ja media ovat Vartian näytelmiä kuvailleet. Tänäkin kesänä katsojat saavat elämyksen, joka riemastuttaa ja koskettaa kaikenikäisiä. Sinikka ja Tiina Nopolan kirjoittama Heinähattu, vilttitossu ja Rubensin veljekset on täynnä elämäniloa, jännitystä ja nasevaa sanailua.<br><br>Tarina saa alkunsa, kun Kattilakosken perhe lähtee lomanviettoon vuokraamalleen huvilalle, jossa Heinähattu ja Vilttitossu toivovat pääsevänsä vakoilemaan rosvoja. Vauhdikkaiden käänteiden ja väärinkäsitysten jälkeen naapurimökissä majailevat kaksi poliisia naamioituvat taiteilijoiksi, mutta tytöt ovat vakuuttuneita, että nuo kaksi kummajaista ovat vankikarkureita…<br><br>- On aivan ihanaa päästä jälleen Taaborinvuorelle näyttelemään ja laulamaankin, sanoo<b> Marita Taavitsainen</b>, joka on ollut Vartian ohjauksessa samalla mäellä aiemmin Vaahteranmäen Eemelissä ja Peter Panissa. Myös Uusi päivä tv-sarjan tähdet <b>Thelma Siberg</b> ja <b>Valtteri Lehtinen</b> ovat iloisia saadessaan heittäytyä lämminhenkisen näytelmän pyörteisiin. Muina näyttelijöinä ovat <b>Ida Heinonen, Heli Haltia, Nora Löfving</b> ja <b>Joonas Vartia</b>.<br><br><a href="http://www.taaborinkesateatteri.fi">www.taaborinkesateatteri.fi</a><br>044 346 8000 <br /><br />  Visit event in our website: <a href='https://tapahtumainfo.fi/tapahtuma/2017/07/heinahattu-vilttitossu-ja-rubensin-veljekset/171034'>Tapahtumainfo.fi</a></body></html>
END:VEVENT
END:VCALENDAR
