BEGIN:VCALENDAR
VERSION:2.0
PRODID:-//tapahtumainfo.fi//NONSGML OOPPERAN & BALETIN KAUSIKORTIT 2017-2018//EN
METHOD:REQUEST
BEGIN:VEVENT
UID:20260423T190245-861274049-tapahtumainfo.fi
DTSTAMP:20260423T190245
DTSTART:20180405T190000Z
DTEND:20180405T020000Z
LOCATION:Oopperan päänäyttämö
SUMMARY:OOPPERAN & BALETIN KAUSIKORTIT 2017-2018
DESCRIPTION:<html><head></head><body>Oopperan ja baletin kanta-asiakkaaksi tullaan hankkimalla kausikortti. Kausikortilla varmistat paikkasi kauden 2017–2018 odotetuimmissa uutuusesityksissä, joita on tällä kaudella yhteensä seitsemän. Samalla saat katsomosta oman vakiopaikan ja 11 muuta etua. Kausikortti on vaivaton ratkaisu, sillä se varataan sinulle automaattisesti uudelle kaudelle.<br><br>Ennakko-ostajalle 20 % alennus (ensi-iltakortissa 15 % alennus) kausikortin hinnasta. Ennakko-ostajan etu on voimassa 20.6.2017 saakka.<br><br>Valitse sopivin viikonpäivä, jolloin haluat nähdä uutuusteokset. Kausikortteja myydään permannon, ensimmäisen ja toisen parven parhaille paikoille.<br><br><br><br>Kausikortin haltijana sinun on mahdollista vaihtaa kausikorttiesityksesi päivää, mikäli esityksessä on tilaa. Vaihto on maksuton, kun vaihdat lippusi saman teoksen toiseen esitykseen ja samanarvoiselle paikalle. Maksuttomasta lippujen vaihdosta tulee kuitenkin sopia viimeistään 2 päivää ennen esityspäivää. Huomioithan, että esityspäivänä ja päivää ennen esitystä lippuja ei voi enää vaihtaa. Kysy lisää kausikorttipalvelustamme!<br><br><b>Kausikorttipalvelu (09) 4030 2210, liput[at]opera.fi, ma–pe klo 9–16<br><br><a href="http://www.oopperabaletti.fi/kausikortit">www.oopperabaletti.fi/kausikortit</a><br></b><br><br><br><b>Ensi-iltasarja<br></b><a href="http://oopperabaletti.fi/ohjelmisto/kamelianainen/">Kamelianainen</a> pe 25.8.2017<br><a href="http://oopperabaletti.fi/ohjelmisto/hostsonaten-syyssonaatti/">Höstsonaten – Syyssonaatti</a> pe 8.9.2017<br><a href="http://oopperabaletti.fi/ohjelmisto/kalevalanmaa/">Kalevalanmaa</a> pe 3.11.2017<br><a href="http://oopperabaletti.fi/ohjelmisto/madama-butterfly/">Madama Butterfly</a> pe 26.1.2018<br><a href="http://oopperabaletti.fi/ohjelmisto/giselle/">Giselle</a> pe 23.2.2018<br><a href="http://oopperabaletti.fi/ohjelmisto/trubaduuri/">Trubaduuri</a> pe 23.3.2018<br><a href="http://oopperabaletti.fi/ohjelmisto/les-nuits-yolliset-tunnit/">Les Nuits – Yölliset tunnit</a> pe 4.5.2018<br><br><b>Tiistaisarja<br></b><a href="http://oopperabaletti.fi/ohjelmisto/kamelianainen/">Kamelianainen</a> ti 5.9.2017<br><a href="http://oopperabaletti.fi/ohjelmisto/hostsonaten-syyssonaatti/">Höstsonaten – Syyssonaatti</a> ti 19.9.2017<br><a href="http://oopperabaletti.fi/ohjelmisto/kalevalanmaa/">Kalevalanmaa</a> ti 14.11.2017<br><a href="http://oopperabaletti.fi/ohjelmisto/madama-butterfly/">Madama Butterfly</a> ti 20.2.2018<br><a href="http://oopperabaletti.fi/ohjelmisto/giselle/">Giselle</a> ti 27.2.2018<br><a href="http://oopperabaletti.fi/ohjelmisto/trubaduuri/">Trubaduuri</a> to 5.4.2018 *Huom. poikkeuksellinen viikonpäivä!<br><a href="http://oopperabaletti.fi/ohjelmisto/les-nuits-yolliset-tunnit/">Les Nuits – Yölliset tunnit</a> ti 15.5.2018<br><br><b>Keskiviikkosarja</b><br><a href="http://oopperabaletti.fi/ohjelmisto/hostsonaten-syyssonaatti/">Höstsonaten – Syyssonaatti</a> ke 13.9.2017<br><a href="http://oopperabaletti.fi/ohjelmisto/kamelianainen/">Kamelianainen</a> ke 20.9.2017<br><a href="http://oopperabaletti.fi/ohjelmisto/kalevalanmaa/">Kalevalanmaa</a> ke 8.11.2017<br><a href="http://oopperabaletti.fi/ohjelmisto/madama-butterfly/">Madama Butterfly</a> ke 31.1.2018<br><a href="http://oopperabaletti.fi/ohjelmisto/giselle/">Giselle</a> ke 7.3.2018<br><a href="http://oopperabaletti.fi/ohjelmisto/trubaduuri/">Trubaduuri</a> ke 11.4.2018<br><a href="http://oopperabaletti.fi/ohjelmisto/les-nuits-yolliset-tunnit/">Les Nuits – Yölliset tunnit</a> pe 9.5.2018<br><br><b>Torstaisarja</b><br><a href="http://oopperabaletti.fi/ohjelmisto/kamelianainen/">Kamelianainen</a> to 14.9.2017<br><a href="http://oopperabaletti.fi/ohjelmisto/hostsonaten-syyssonaatti/">Höstsonaten – Syyssonaatti</a> to 5.10.2017<br><a href="http://oopperabaletti.fi/ohjelmisto/kalevalanmaa/">Kalevalanmaa</a> to 16.11.2017<br /><a href="http://oopperabaletti.fi/ohjelmisto/madama-butterfly/">Madama Butterfly</a> to 8.2.2018<br><a href="http://oopperabaletti.fi/ohjelmisto/giselle/">Giselle</a> to 1.3.2018<br><a href="http://oopperabaletti.fi/ohjelmisto/trubaduuri/">Trubaduuri</a> to 19.4.2018<br><a href="http://oopperabaletti.fi/ohjelmisto/les-nuits-yolliset-tunnit/">Les Nuits – Yölliset tunnit</a> to 17.5.2018<br><br><b>Perjantaisarja</b><br><a href="http://oopperabaletti.fi/ohjelmisto/kamelianainen/">Kamelianainen</a> pe 1.9.2017<br><a href="http://oopperabaletti.fi/ohjelmisto/hostsonaten-syyssonaatti/">Höstsonaten – Syyssonaatti</a> la 23.9.2017 *Huom. poikkeuksellinen viikonpäivä.<br><a href="http://oopperabaletti.fi/ohjelmisto/kalevalanmaa/">Kalevalanmaa</a> pe 10.11.2017<br /><a href="http://oopperabaletti.fi/ohjelmisto/madama-butterfly/">Madama Butterfly</a> pe 2.2.2018<br><a href="http://oopperabaletti.fi/ohjelmisto/giselle/">Giselle</a> pe 9.3.2018<br><a href="http://oopperabaletti.fi/ohjelmisto/trubaduuri/">Trubaduuri</a> pe 13.4.2018<br /><a href="http://oopperabaletti.fi/ohjelmisto/les-nuits-yolliset-tunnit/">Les Nuits – Yölliset tunnit</a> pe 18.5.2018<br><br><b>Lauantaisarja</b><br /><a href="http://oopperabaletti.fi/ohjelmisto/kamelianainen/">Kamelianainen</a> la 26.8.2017<br><a href="http://oopperabaletti.fi/ohjelmisto/hostsonaten-syyssonaatti/">Höstsonaten – Syyssonaatti</a> la 30.9.2017<br><a href="http://oopperabaletti.fi/ohjelmisto/kalevalanmaa/">Kalevalanmaa</a> la 11.11.2017<br><a href="http://oopperabaletti.fi/ohjelmisto/madama-butterfly/">Madama Butterfly</a> la 17.2ok.2018<br><a href="http://oopperabaletti.fi/ohjelmisto/giselle/">Giselle</a> la 17.3.2018<br><a href="http://oopperabaletti.fi/ohjelmisto/trubaduuri/">Trubaduuri</a> la 7.4.2018<br><a href="http://oopperabaletti.fi/ohjelmisto/les-nuits-yolliset-tunnit/">Les Nuits – Yölliset tunnit</a> la 5.5.2018<br> <br /><br />  Visit event in our website: <a href='https://tapahtumainfo.fi/tapahtuma/2018/04/oopperan-baletin-kausikortit-2017-2018/171691'>Tapahtumainfo.fi</a></body></html>
END:VEVENT
END:VCALENDAR
