BEGIN:VCALENDAR
VERSION:2.0
PRODID:-//tapahtumainfo.fi//NONSGML Porvoon Taidetehtaan Joulumarkkinat//EN
METHOD:REQUEST
BEGIN:VEVENT
UID:20260424T190204-920207948-tapahtumainfo.fi
DTSTAMP:20260424T190204
DTSTART:20171210T100000Z
DTEND:20171210T160000Z
LOCATION:Taidetehdas
SUMMARY:Porvoon Taidetehtaan Joulumarkkinat
DESCRIPTION:<html><head></head><body>Lämminhenkinen tapahtuma koko perheelle sisätiloissa. Keski-Eurooppalaiset Joulumarkkinat jossa yli sata käsityöntekijää myy tuotteitaan, käsitöistä jouluruokiin. Myyjiä myös yläkerrassa, joten myyjiä enemmän kuin koskaan. <br /><br />  Visit event in our website: <a href='https://tapahtumainfo.fi/tapahtuma/2017/12/porvoon-taidetehtaan-joulumarkkinat/173565'>Tapahtumainfo.fi</a></body></html>
END:VEVENT
END:VCALENDAR
