BEGIN:VCALENDAR
VERSION:2.0
PRODID:-//tapahtumainfo.fi//NONSGML TANSSITEATTERI ERI - LAHJAKORTTI//EN
METHOD:REQUEST
BEGIN:VEVENT
UID:20260425T203038-818885007-tapahtumainfo.fi
DTSTAMP:20260425T203038
DTSTART:20261231T235900Z
DTEND:20261231T020000Z
LOCATION:Tanssiteatteri ERI
SUMMARY:TANSSITEATTERI ERI - LAHJAKORTTI
DESCRIPTION:<html><head></head><body>Ilahduta ystävääsi, muista läheistäsi, yllätä iloisesti – Anna lahja, jonka saaja voi valita!<br><br>Tanssiteatteri ERIn lahjakortilla voi lunastaa lippuja kaikkiin Tanssiteatteri ERIn omiin esityksiin. Monipuolisen valikoimamme ansiosta lahjakortti on oivallinen lahja.<br><br>Lahjakortin voi käyttää Tanssiteatteri ERIn lippuihin talon omassa lippukaupassa tai Lippupisteen myyntipisteissä (ei kuitenkaan R-kioskilla). Lahjakortti on voimassa vuoden ostopäivästä.<br><br>Lahjakortti Tanssiteatteri ERIn näytökseen.<br>Lahjakortteja voi ostaa seuraaville summille:<br>(Palvelumaksu 1 € / lahjakortti)<br>Lahjakortti 4 €, lahjakortin hinta palvelumaksuineen 5 €<br>Lahjakortti 9 €, lahjakortin hinta palvelumaksuineen 10 €<br>Lahjakortti 19 €, lahjakortin hinta palvelumaksuineen 20 €<br>Lahjakortti 29 €, lahjakortin hinta palvelumaksuineen 30 €<br>Lahjakortti 39 €, lahjakortin hinta palvelumaksuineen 40 €<br>Lahjakortti 49 €, lahjakortin hinta palvelumaksuineen 50 €<br>Lahjakortti 59 €, lahjakortin hinta palvelumaksuineen 60 €<br>Lahjakortti 69 €, lahjakortin hinta palvelumaksuineen 70 €<br>Lahjakortti 79 €, lahjakortin hinta palvelumaksuineen 80 €<br>Lahjakortti 89 €, lahjakortin hinta palvelumaksuineen 90 €<br>Lahjakortti 99 €, lahjakortin hinta palvelumaksuineen 100 €<br> <br /><br />  Visit event in our website: <a href='https://tapahtumainfo.fi/tapahtuma/2026/12/tanssiteatteri-eri-lahjakortti/182423'>Tapahtumainfo.fi</a></body></html>
END:VEVENT
END:VCALENDAR
