BEGIN:VCALENDAR
VERSION:2.0
PRODID:-//tapahtumainfo.fi//NONSGML VAASA FESTIVAL - MUSIC, FOOD & WINE//EN
METHOD:REQUEST
BEGIN:VEVENT
UID:20260421T192552-1424974185-tapahtumainfo.fi
DTSTAMP:20260421T192552
DTSTART:20190726T155900Z
DTEND:20190726T020000Z
LOCATION:Vaasan Sisäsatama / Vasa Inre hamnen
SUMMARY:VAASA FESTIVAL - MUSIC, FOOD & WINE
DESCRIPTION:<html><head></head><body><b>Ruotsin ykköspoppari Veronica Maggio Suomeen! </b><br><br><b>-Eksklusiivinen Suomen festivaalikeikka nähdään Vaasa Festivalissa perjantaina 26.7.2019 </b><br><b>-Artisti julkaisee uutta musiikkia 2019 kevään ja alkukesän aikana </b><br><b>-Maggio nähtin viimeksi Suomessa 2017 Ruisrockin päälavalla </b><br><b>-Vaasa Festivalin päiväkohtainen ohjelma julkaistu </b><br><b>-Festivaali järjestetään Vaasan Sisäsatamassa neljännen kerran 26.-27.7.2019 </b><br><b>-Tapahtuma on kokonaisuudessaan K18 </b><br><br>Vaasan Sisäsatamassa 26.-27.7.2019 neljännen kerran järjestettävä Vaasa Festival -Music, Food & Wine on kiinnittänyt Ruotsin yhden suosituimmista artisteista, <b>Veronica Maggion</b>. Naisartisti on keikkaillut viime vuosina harvakseen, nyt julkaistava kiertue saapuu myös Suomeen ensi heinäkuussa. Artistin suosiosta kotimaassaan kertoo vuoden 2016 elokuun konsertti Tukholmassa: Veronica Maggio järjesti tuolloin loppuunmyydyn stadionkonsertin Tukholman stadionilla esiintyen 20 000 hengelle. Maggio on esiintynyt omassa konsertissaan myös mm. Helsingin jäähallissa.<br><br>Maggion tunnetuimpia kappaleita ovat mm. Spotifyssa yli 50 miljoonaa kertaa striimatut “Jag Kommer”sekä “Snälla bli Min”. Kymmeniä miljoonia kuuntelukertoja on myös kappaleilla “Hela Huset”, “17 år” sekä vuonna 2016 julkaistulla tuoreimmalla singlellä “Vi Mot Världen”. Veronica Maggio on kertonut julkaisevansa uutta musiikkia kokonaisen albumillisen kevään ja alkukesän aikana 2019. Ensimmäinen single “Kurt Cobain” albumilta julkaistaan 22. maaliskuuta.<br><br>Vaasa Festival on jo aiemmin kiinnittänyt mm. Norjan vuoden 2009 euroviisuvoittaja <b>Alexander Rybakin</b> ja kotimaassaan harvoin keikkailevan suomalaisen sellorock-yhtye <b>Apocalyptican</b>. Apocalyptica julkaisi helmikuussa historiansa ensimmäisen suomenkielisen kappaleen yhdessä SANNI:n ja TIPPA T:n kanssa. Vaasassa nähdään myös paluun ensi kesänä kuudella keikalla tekevä suomirockin legenda <b>Don Huonot</b> Kalle Aholan johdolla.<br><i><br>“Olemme äärimmäisen tyytyväisiä Vaasa Festivalin tämänvuotiseen ohjelmaan. Odotamme Veronica Maggion tuovan kävijöitä Vaasaan runsaasti valtakunnallisten kävijöiden lisäksi myös Ruotsin puolelta. Tavoittelemme Vaasa Festivaliin 13 000 kävijää yhteensä kahden päivän aikana oheistapahtumineen. Vaasa Festival on myös kesällä 2019 kokonaisvaltainen musiikin, ruuan ja viinin juhla Vaasan kauniissa sisäsatamassa, aivan keskustan tuntumassa. Puistolavan lisäksi kakkoslavana toimii edellisen kesän tapaan Sisäsataman Terassin esiintymislava. Monipuolisen ohjelman lisäksi tapahtuma tarjoaa upean miljöön merenrantamaiseman ja kauniin puistoalueen myötä. Myös tulevana kesänä koko festivaalialue on anniskelualuetta ja koko tapahtuma K18. Festivaalialueeseen kuuluu edellisen vuoden tapaan lisäksi kaksi ravintolaa, 151- vuotias Strampen' sekä Sisäsataman Terassi. Tulemme julkaisemaan myöhemmin ohjelmistoon vielä kymmenkunta paikallista ja nousevaa kotimaista yhtyettä. ”</i><br>-Tommi Mäki, promoottori Vaasa Festival<br><br><b>Päiväkohtainen ohjelma / Vaasa Festival 2019:</b><br><br><b>Perjantai 26.7.</b><br>17.00 Samuli Edelmann & Orkestra Suora Lähetys<br>18.45 Veronica Maggio (SWE)<br>20.45 Tuure Kilpeläinen & Kaihon Karavaani<br>22.45 Apocalyptica<br>00.45 Don Huonot<br><br><b>Lauantai 27.7.</b><br>15.00 Alexander Rybak (NOR) & Vaasan kaupunginorkesteri<br>17.30 Waltteri Torikka & viihdeorkesteri<br>19.30 Petra (Tiktak)<br>21.00 Antti Ketonen<br>22.45 Neon 2<br>00.45 Dingo<br><br>Vaasa Festival - Music, Food & Wine<br>Paikka: Vaasan Sisäsatama - Vasa Inre Hamnen<br>Aika: 26.-27.7.2019<br>Ikäraja: K18<br><br>Vaasan Sähkö VIP-liput sisältävät mm. ilmaisen narikan, Vaasan Sähkö VIP-alueen ja terassin palvelut, Strampen<br>ravintolan VIP-sisätilan, erillisten sisä wc-tilojen käytön Deluxe-ruokailun päätyttyä sekä ilmaisen sisäänpääsyn jonon<br>ohi virallisille jatkoille yökerho Teatroon.<br><br>Deluxe VIP sisältää lisäksi tasokkaan kolmen ruokalajin illallisen Strampen ravintolassa festivaalialueella lipun<br>oikeuttamina päivinä sekä Strampen ravintolan ja sisä wc-tilojen käytön koko festivaalin ajan.<br> <br /><br />  Visit event in our website: <a href='https://tapahtumainfo.fi/tapahtuma/2019/07/vaasa-festival-music-food-wine/185191'>Tapahtumainfo.fi</a></body></html>
END:VEVENT
END:VCALENDAR
