BEGIN:VCALENDAR
VERSION:2.0
PRODID:-//tapahtumainfo.fi//NONSGML 15. Raippaluodon kirkko//EN
METHOD:REQUEST
BEGIN:VEVENT
UID:20260423T113908-1247773034-tapahtumainfo.fi
DTSTAMP:20260423T113908
DTSTART:20190728T180000Z
DTEND:20190728T020000Z
LOCATION:Korsholm Music Festival 2019
SUMMARY:15. Raippaluodon kirkko
DESCRIPTION:<html><head></head><body><b>Korsholman Musiikkijuhlat 2019</b><br /><b>Kyrkvägen 58, Raippaluoto</b><br /><br />28.7. klo 18.00 Raippaluodon kirkko<br /><br />"Frei Aber Einsam, F-A-E"<br /><br />Annette von Hehn, viulu<br />Olivier Triendl, piano<br />Diego Chenna, fagotti<br />Håvard Gimse, piano<br />Jaan Bossier, klarinetti<br /><br />BRAHMS / R. SCHUMANN / DIETRICH / AUERBACH / HÉRSANT<br /><br />Liput: 25 / 20 / 12,50  <br /><br />  Visit event in our website: <a href='https://tapahtumainfo.fi/tapahtuma/2019/07/15-raippaluodon-kirkko/187486'>Tapahtumainfo.fi</a></body></html>
END:VEVENT
END:VCALENDAR
