BEGIN:VCALENDAR
VERSION:2.0
PRODID:-//tapahtumainfo.fi//NONSGML Qstock Festivaali / VIP perjantai//EN
METHOD:REQUEST
BEGIN:VEVENT
UID:20260422T193746-781436162-tapahtumainfo.fi
DTSTAMP:20260422T193746
DTSTART:20190726T123300Z
DTEND:20190726T020000Z
LOCATION:KUUSISAARI, Oulu
SUMMARY:Qstock Festivaali / VIP perjantai
DESCRIPTION:<html><head></head><body><b>QSTOCKIN OHJELMA JA AIKATAULUT VALMIIT!</b><br /><br />Festivaalin kuudella lavalla esiintyy kahden päivän aikana 60 esiintyjää. Ohjelmaa täydennetään vielä monipuolisella taide- ja alueohjelmalla.<br /><br /><b>KAIKKI ESINTYJÄT</b><br /><br />Perjantai 26.7.2019<br /><br />The Offspring (US), Ville Valo & Agents, Children Of Bodom, JVG, Vesala, Michael Monroe, Elastinen, Beast In Black,Teflon Brothers, Ruusut,The 69 Eyes, Radiopuhelimet, Rytmihäiriö, Pariisin Kevät, Ylva Haru, Kalevauva.fi ? Stereo, Viikate, Crew of Me & You (SE),  Samuli Putro, Wheel, Asa & Band, Elias Gould, MMSP, Peltokurki, Jokrates, Full Nelson, Afterworld<br /><br />Lauantai 27.7.2019<br /><br />Thirty Seconds To Mars (US), Airbourne (AU), Apulanta, Don Huonot, SANNI, Popeda, Stam1na, Kaija Koo, Evelina, Anna Puu, Vesterinen Yhtyeineen, Barbe-Q-Barbies, Infected Rain (MD), Ricky-Tick Big Band & Julkinen Sana, Chisu, Ellips, Kasmir, Olavi Uusivirta, Kingston Wall by JJylli, Kuoppis & VHB,  Maustetytöt, Lxandra, Arion, Mouhous, Jarkko Martikainen & Luotetut Miehet akustisena, Sini Yasemin, Gettomasa, Smash Into Pieces (SE), Machinae Supremacy (SE), messier, Lauri Peisterä, Leo Luthando, J. A. Mäki & Aavaa<br /><br />Aikataulut: <a href="http://www.qstock.fi/aikataulu" target="blank">qstock.fi/aikataulu</a><br><br />Artistien esittelyt: <a href="http://www.qstock.fi/ohjelma" target="blank">qstock.fi/ohjelma</a><br><br />Lisätietoa lipunmyynnistä: <a href="http://www.qstock.fi/liput" target="blank">qstock.fi/liput</a><br><br />VIP-lippujen lisätiedot: <a href="http://www.qstock.fi/vip-liput" target="blank">qstock.fi/vip-liput</a><br><br />Tilaa drinkki- ja ruokalippuja: <a href=" http://bit.ly/Qstock2019_lipukkeet<br /> "target="blank">Qstock2019/lipukkeet</a><br /><br /> <br><br><br /><br />PORTIT: PE klo 12:30, LA klo 11:30<br /><br /><b>Ostorajoitus: 10 lippua / asiakas</b><br />Huom. Lippuja ei saa käyttää arvontojen tai kilpailujen palkintoina ilman Qstock Oy:n kirjallista lupaa. <br /><br /><b>IKÄRAJAT JA VAPAARANNEKKEET:</b><br /><br />Qstock-festivaalille ei ole ikärajaa. Alle 10-vuotiaat (28.7.2009 ja sen jälkeen syntyneet) pääsevät tapahtumaan veloituksetta. Alle 10-vuotiaille taataan vapaaranneke festivaalille lipun ostaneen aikuisen seurassa. Lipun ostaneen aikuisen mukana pääsee kaksi alle 10-vuotiasta lasta festivaalialueelle. Vapaarannekkeita saa pääporttien läheisyydessä sijaitsevalta rannekkeenvaihtoteltalta. Ikä todistettava.<br /><br /><b>Avustajaranneke:</b><br /><br />Mikäli invaliditeettisi vuoksi tarvitset avustajan, hän voi lunastaa vapaarannekkeensa pääporttien läheisyydessä sijaitsevalta rannekkeenvaihtoteltalta yhdessä avustettavan kanssa. Rannekkeenvaihtoteltta palvelee asiakkaita festivaalin aikaan 26.-27.7.2019. Vain yksi avustaja on oikeutettu vapaarannekkeeseen. Avustettavalla tulee olla mukana Qstockin lippu tai jo vaihdettu ranneke.<br /><br /><b>IKÄSUOSITUKSET</b><br /><br />Qstock-festivaali suosittelee alle 15-vuotiaiden festivaalikävijöiden saapumista alueelle aikuisen kanssa. Suuren yleisötapahtuman luonne tekee festivaalin turvallisuudesta kaikkien kävijöiden yhteisen asian, mitä Qstock pyrkii tällä ohjeistuksella edesauttamaan.<br><br><br /><br />Qstock järjestetään Kuusisaaren ja Raatin alueella Oulussa 26.-27.7.2019. Festivaaleilla nähdään yli 60 esiintyjää kahden päivän aikana. Qstock on ollut loppuunmyyty jo kuutena kesänä peräkkäin, ja se on vakiinnuttanut paikkansa yhtenä Suomen suurimmista festivaaleista. Viime vuonna tapahtuma keräsi 35 000 juhlijaa kahden päivän aikana.<br /><br /><br /> <br /><br />  Visit event in our website: <a href='https://tapahtumainfo.fi/tapahtuma/2019/07/qstock-festivaali-vip-perjantai/190195'>Tapahtumainfo.fi</a></body></html>
END:VEVENT
END:VCALENDAR
