BEGIN:VCALENDAR
VERSION:2.0
PRODID:-//tapahtumainfo.fi//NONSGML AARRESAARI//EN
METHOD:REQUEST
BEGIN:VEVENT
UID:20260423T223403-1311718604-tapahtumainfo.fi
DTSTAMP:20260423T223403
DTSTART:20200514T120000Z
DTEND:20200514T020000Z
LOCATION:Eero-näyttämö, Kirkkokatu 14
SUMMARY:AARRESAARI
DESCRIPTION:<html><head></head><body>Lahden kaupunginteatterin kevään 2020 esitykset perutaan toistaiseksi.<br><br>Voit vaihtaa pääsylippusi lahjakorttiin tai haluamaasi syksyn esitykseen. Halutessasi lipun hinta voidaan myös korvata sinulle. Yhteydenotot tai hyvityspyynnöt yhteystietojen ja tilinumeron kera voi lähettää lktliput@lahti.fi /  lktryhmat@lahti.fi. Lahjakortti lähetetään postitse.<br><br>Lippupalautuksia ja -vaihtoja otetaan vastaan koko kevään ajan.<br /><br><br><br />Hiiohoi arkajalat ja maakravut! Nyt on luvassa myrskyä ja merirosvousta, seikkailuja ja aarrejahtia! Nuori Jim joutuu hurjaan seikkailuun löydettyään yllättäen äitinsä kanssa merirosvokapteeni Flintin aarrekartan ja pian hän onkin jo kajuuttapentuna kuunari Hispaniolalla, suuntana Luurankosaari ja kauhean kapteeni Flintin aarre!<br><br>Merimatka osoittautuukin huomattavasti odotettua myrskyisämmäksi kun Jim tapaa yksijalkaisen laivakokin Pitkä-John Silverin, jolla on omat lurjusmaiset suunnitelmansa aarteen suhteen. Eikä laivan miehistökään ole kaikkea sitä miltä näyttää…<br><br>Jimin neuvokkuus ja rohkeus joutuvat kovaan koetukseen hurjien käänteiden täyttämässä jännittävässä ja hauskassa seikkailussa ja ennen kuin matka on ohi, sapelit kalisevat, ruuti käryää ja merirosvolaulut raikuvat.<br><br>Näytelmä perustuu Mauri Kunnaksen tulkintaan Robert Louis Stevensonin saman nimisestä klassikkoromaanista.<br><br>Joten astukaa laivaan, nostakaa ankkuri ja liittykää mukaan kunnasmaiselle matkalle kohti Luurankosaarta ja merirosvoaarretta!<br><br>KANTAESITYS 31.8.2019 EERO-NÄYTTÄMÖLLÄ<br><br>SOVITUS JA OHJAUS <b>Aleksis Meaney</b><br>LAVASTUS, PUKUSUUNNITTELU JA VALOSUUNNITTELU <b>Tiina Hauta-aho</b><br>MUSIIKKI JA ÄÄNISUUNNITTELU <b>Tatu Virtamo</b><br>ROOLEISSA <b>Jori Halttunen, Saana Hyvärinen, Mari Naumala, Anna Pitkämäki, Mikko Pörhölä, Jari-Pekka Rautiainen, Henri Tuominen ja Raisa Vattul</b><br><br>Suosittelemme esitystä 6-vuotiaasta ylöspäin esityksen jännittävistä tapahtumista johtuen!<br>KESTO 1 h 40 min (sis. väliajan) <br /><br />  Visit event in our website: <a href='https://tapahtumainfo.fi/tapahtuma/2020/05/aarresaari/213281'>Tapahtumainfo.fi</a></body></html>
END:VEVENT
END:VCALENDAR
