BEGIN:VCALENDAR
VERSION:2.0
PRODID:-//tapahtumainfo.fi//NONSGML Natural High Healing Festival 2020//EN
METHOD:REQUEST
BEGIN:VEVENT
UID:20260424T190558-600637401-tapahtumainfo.fi
DTSTAMP:20260424T190558
DTSTART:20200903T020000Z
DTEND:20200903T020000Z
LOCATION:Narvilinna
SUMMARY:Natural High Healing Festival 2020
DESCRIPTION:<html><head></head><body><h2><strong></strong></h2><br /><h2><strong>NATURAL HIGH HEALING FESTIVAL 3. -6.9.2020</strong></h2><br /><p><strong>EPIC TRANSFORMATION</strong></p><br /><p>Tule ja synny uudelleen, kylve luottamuksessa, anna rakkauden olla ohjaksissa. Uuden el&auml;m&auml;n hyvinvointifestivaali odottaa sinua!</p><br /><p>Valloittava Natural High Healing Festival on tulossa uudella ajankohdalla entist&auml;kin tunnelmallisempana ja merkityksellisemp&auml;n&auml;!!&nbsp; Juhlimme jo kahdeksatta kertaa nostavissa, inspiroivissa ja kauniissa syd&auml;nt&auml; avaavissa tunnelmissa! Festivaali, joka saattaa muuttaa el&auml;m&auml;si!&nbsp;</p><br /><p>Festivaali on p&auml;ihteet&ouml;n luovuuden, vapauden ja syd&auml;men festivaali, joka kokoaa yhteen sielukkaat ihmiset, sek&auml; syd&auml;melliset ja lahjakkaat artistit, muusikot ja workshoppien vet&auml;j&auml;t.&nbsp;</p><br /><p>Olet syd&auml;mellisesti tervetullut transformoiville hyvinvointifestivaaleille! Arvostetusta tapahtumastamme on tulossa entist&auml;kin&nbsp; voimakkaampi j&auml;lleenn&auml;kemisen ja el&auml;m&auml;n juhla! Rakas ja upea festivaalimme on kasvanut joka vuosi, eik&auml; ihme, sill&auml; olemme yhdess&auml; luoneet jotain hyvin ainutlaatuista. Vuonna 2020 on odotettavissa viel&auml;kin erityisen t&auml;rke&auml; ja syvempi sielukas el&auml;mys, kuin syntyisit uudelleen, kuin palaisit omaan voimaasi.&nbsp;</p><br /><p>&nbsp;</p><br /><p><strong>NATURAL HIGH MUSIIKKI &amp; WORKSHOPIT JULKISTETAAN KEV&Auml;&Auml;N AIKANA</strong></p><br /><p>Olemme Suomen suurin p&auml;ihteet&ouml;n hyvinvointifestivaali ja ohjelmasta on tulossa j&auml;lleen runsas ja mittava! Tervetuloa, nauttimaan ja kokemaan uutta! Luvassa on mielenkiintoisia ty&ouml;pajoja ja uusia el&auml;myksi&auml;! Ty&ouml;pajoina ja luentoina on mm. joogaa, tanssia, tantraa, luovaa liikett&auml;, taidetta, kehotietoisuutta, meditaatiota, l&auml;sn&auml;oloa, laulua ja sielukasta huippumusaa!</p><br /><p>T&auml;n&auml; vuonna ohjelmasta l&ouml;ytyy samoja ty&ouml;pajoja useampia - toiveenne on kuultu. Luvassa my&ouml;s sielukas deittihetki, jotta amorin nuolet saadaan sinkoilemaan oikeisiin osoitteisiin!&nbsp;</p><br /><p>Festivaalin syd&auml;n on Connection Circle, jossa kokoonnumme kaikki yhteen livemusiikkia fiilistellen. Ohjelmassa on my&ouml;s Creative Hour, jossa jokaisella on mahdollisuus vet&auml;&auml; ty&ouml;paja!&nbsp;</p><br /><p>&nbsp;</p><br /><p><strong>FESTIVAALIALUE</strong></p><br /><p>Festivaalipaikka on viimevuosilta tuttu paikka Narvilinna Uudessakaupungissa. Saaristoseutu ja kaunis maalaismilj&ouml;&ouml; luovat loistavat puitteet Natural High Festivalille! Koko alue on koristeltu kauniiksi ja huokuu l&auml;mp&ouml;&auml; ja rakkautta. On aika tiputtaa sis&auml;iset haarniskat ja kaataa turhat suojamuurit ja todella tulla yhteen l&auml;mminhenkisess&auml; syd&auml;mellisess&auml; tunnelmassa. Kohdata eniten itsens&auml; ja kaikki ihana kanssakulkijat. Tutustu uusiin yst&auml;viin, verkostoidu ja saattaahan siell&auml; el&auml;m&auml;si rakkauskin odottaa, puitteet sille ovat mit&auml; parhaimmat! Voit rentoutua my&ouml;s nurmikolla, lammella, k&auml;yd&auml; k&auml;velyll&auml; mets&auml;ss&auml; runopolulla, silitt&auml;&auml; lampaita lammashaassa tai ihailla taidetta taideladossa.&nbsp;</p><br /><p>&nbsp;</p><br /><p><strong>FOOD FIESTA, BOUTIQUE AVENUE, FESTIVAALI SAUNAT</strong></p><br /><p>Upealta FOOD FIESTA -alueelta l&ouml;ytyy mielenkiintoisia ruokakojuja, jotka ottavat huomioon ruokatrendit ja superfoodit! Saatavilla vegaanisia, osittain my&ouml;s gluteenittomia superherkkuja, jolla jaksat juhlia koko viikonlopun. Maailman parhaat raakakakut l&ouml;ytyv&auml;t Natural High Welcome Cafesta!&nbsp;</p><br /><p>Kotiinviemisi&auml; voit ostaa Natural High Shopista ja Boutiue Avenuelta, josta l&ouml;ytyy mielenkiintoisia pieni&auml; putiikkeja.&nbsp;</p><br /><p>Alueelta l&ouml;ytyy tietysti my&ouml;s supisuomalaiset festivaalisaunat! Secret Beach ranta-alue, jossa p&auml;&auml;set hetkiseksi irti festivaali humusta. Uudistetun ja toimivamman ranta-alueen saunat (niit&auml; tulee olemaan kaksi) ovat l&auml;mpim&auml;n&auml; aamusta pikkutunneille ja ne sijaitsevat j&auml;rven rannalla omalla hiekkarannallaan. Peseyty&auml; voit my&ouml;s festivaali sauna-alueella, jossa on my&ouml;s suihkut. Molempiin saunoihin tarvitset erillisen rannekkeen (15 &euro; infosta).</p><br /><p>&nbsp;</p><br /><p><strong>EPIC TRANFROMATION 2020</strong></p><br /><p>Luvassa on todella eeppinen sielukas hyvinvointifestivaali 2020! Osta lippusi heti! &lt;3</p><br /><p>Natural High on inspiroinut tuhansia ihmisi&auml; ymp&auml;ri maailmaa. Se tuonut meit&auml; kaikkia l&auml;hemm&auml;s todellista itse&auml;mme ja avannut syd&auml;memme. Se on rakentanut uusia siltoja yhteyteen, rakkauteen, valanut toivoa ja uskoa ihmisyyteen sek&auml; luonut t&auml;ysin uudenlaisen festivaalikulttuurin Suomeen. Yh&auml; useampi sanoo festivaalin olevan koko vuoden kohokohta.&nbsp;</p><br /><p>Tule rakkaudenkuplaan kanssamme, tule kotiin.&nbsp;</p><br /><p>Vuonna 2020 on mahdollista kuin synty&auml; uudelleen, kylpe&auml; luottamuksessa ja antaa rakkauden olla ohjaksissa.</p><br /><p>Osallistu uuden el&auml;m&auml;n hyvinvointifestivaaleille, uusi eeppinen transformaatio el&auml;mys on sinua varten.</p><br /><p>&nbsp;</p><br /><p><strong>LET LOVE GUIDE YOU! LET THE MAGIC HAPPEN!&nbsp;</strong></p><br /><p>Tapahtuma on p&auml;ihteet&ouml;n, savuton ja lihaton, eik&auml; liity poliitiikkaan, uskontoon eik&auml; mihink&auml;&auml;n j&auml;rjest&ouml;&ouml;n. Olemme yksinkertaisesti rakkauden asialla.&nbsp;</p><br /><p>&nbsp;</p><br /><p><a href="https://www.facebook.com/NaturalHighHealingFestival/" target="_blank">Facebook</a> | <a href="https://www.instagram.com/naturalhighhealingfestival/" target="_blank">Instagram</a> | <a href="https://www.youtube.com/channel/UCEwjVEXEvyON5JqCS26jwfg/videos" target="_blank">Youtube</a></p><br /><p><em><strong>Tapahtuma on siirtynyt.</strong></em></p><br /><p><em>Alkuper&auml;iselle p&auml;iv&auml;m&auml;&auml;r&auml;lle 2.-5.7.2020 ostetut liput k&auml;yv&auml;t  t&auml;h&auml;n tapahtumaan sellaisinaan. Mik&auml;li uusi ajankohta ei sovi, voit  palauttaa liput verkkosivuiltamme l&ouml;ytyv&auml;ll&auml; lomakkeella <a href="http://www.tiketti.fi/palautalippuja">www.tiketti.fi/palautalippuja</a> 26.6.2020 saakka.</em></p><br /><h2><em>HUOM!<br /></em></h2><br /><p><strong><em>Lippup&auml;ivitykset vuodelle 2021 ovat loppuneet.</em></strong></p><br /><br /><p><strong>Liput vaihdetaan rannekkeisiin</strong>.&nbsp;<strong>Ennakkomyynnin loputtua lippuja saatavilla ovelta rajoitetusti.</strong></p><br /><p>Lapset (7-15-vuotiaat) puoleen hintaan. Alle 7-vuotiaat ilmaiseksi.</p><br /><p><strong>Alueella on ilmainen leirint&auml;, jota useampana p&auml;iv&auml;n&auml; (2-4 p&auml;iv&auml;&auml;) tapahtumaan osallistuvat saavat hy&ouml;dynt&auml;&auml;.</strong></p><br /><p><strong>Ruoka, sauna ja yksil&ouml;hoidot eiv&auml;t kuulu lipun hintaan.</strong></p><br /><p><strong>Festivaalin aukioloajat:<br />To klo 14-01</strong><strong><br />Pe klo 08-01<br /> La klo 08-01<br /> Su klo 08-18</strong></p><br /><p><br /><strong>Bussien l&auml;ht&ouml;paikka Helsingiss&auml;, Tampereella ja Turussa varmistuu my&ouml;hemmin!</strong></p> <br /><br />  Visit event in our website: <a href='https://tapahtumainfo.fi/tapahtuma/2020/07/natural-high-healing-festival-2020/215013'>Tapahtumainfo.fi</a></body></html>
END:VEVENT
END:VCALENDAR
