BEGIN:VCALENDAR
VERSION:2.0
PRODID:-//tapahtumainfo.fi//NONSGML ALADDIN JA TAIKALAMPPU, Espoo//EN
METHOD:REQUEST
BEGIN:VEVENT
UID:20260420T112747-1760610821-tapahtumainfo.fi
DTSTAMP:20260420T112747
DTSTART:20200311T093000Z
DTEND:20200311T020000Z
LOCATION:Teatteri Hevosenkenkä, Kotinäyttämö
SUMMARY:ALADDIN JA TAIKALAMPPU, Espoo
DESCRIPTION:<html><head></head><body><b>ALADDIN JA TAIKALAMPPU</b><br><br>Dramatisointi ja ohjaus: Patrik Drake<br>Lavastus ja nuket: Juhana Hirvonen;;;<br>Nukkien rakennus: Fanni Lieto<br>Valosuunnittelu: Veijo Lindell<br>Rooleissa: Outi Haaranen-Halme, Eero Ahre, Pekka Heiman ja Eero Ojala<br><br>Klassikkosatu Aladdin ja taikalamppu on Teatteri Hevosenkengän versiossa hauska ja vauhdikas seikkailutarina pienimmille katsojille. Kaikki sadun tärkeimmät henkilöt ja tapahtumat ovat mukana – näemme nuoren sankarin Aladdinin ja hänen rottaystävänsä Baban, ihanan prinsessan, lampun hengen, kieron suurvisiirin ja tietenkin lentävän maton! Esityksessä on panostettu visualisuuteen ja musiikkiin, jotka loihtivat eteemme menneen itämaan tunnelmaa. <br /><br />  Visit event in our website: <a href='https://tapahtumainfo.fi/tapahtuma/2020/03/aladdin-ja-taikalamppu-espoo/218496'>Tapahtumainfo.fi</a></body></html>
END:VEVENT
END:VCALENDAR
