BEGIN:VCALENDAR
VERSION:2.0
PRODID:-//tapahtumainfo.fi//NONSGML Tsaari – elokuvan esittelyyn (suomenkielinen tekstitys)//EN
METHOD:REQUEST
BEGIN:VEVENT
UID:20260419T184219-2139698330-tapahtumainfo.fi
DTSTAMP:20260419T184219
DTSTART:20200115T180000Z
DTEND:20200115T200000Z
LOCATION:Venäjän tiede- ja kulttuurikeskus Helsingissä
SUMMARY:Tsaari – elokuvan esittelyyn (suomenkielinen tekstitys)
DESCRIPTION:<html><head></head><body><p>Venäjän tiede- ja kulttuurikeskus kutsuu Tsaari – elokuvan esittelyyn (suomenkielinen tekstitys). Tsaari-leffalla avataan uuden 2020 kinosesongin VTKK:ssa.</p><p></p><p>Mistä elokuva?</p><p>On vuosi 1565. Hämärä aika. Vallassa on Iivana Julma. Venäjä on nälän ja Livonin sodan runneltuna. Hallitsija näkee petturuuden joka paikassa. Hänen uskolliset palvelijat – opritshnikit – hukuttavat maata vereen. Heidän ainoa laki on Tsaari.</p><p>Filmi kertoo siitä, mihin Venäjä oli valmis – sekä putoamisessa, että hengen suuruudessa.</p><p>”Julma Tsaari – julmat ajat”</p><p></p><p>Tuotantovuosi: 2009 / maa: Venäjä / taidelaji: draama, historia / kesto: 2 tuntia</p><br> <br /><br />  Visit event in our website: <a href='https://tapahtumainfo.fi/tapahtuma/2020/01/tsaari--elokuvan-esittelyyn-suomenkielinen-tekstitys/219783'>Tapahtumainfo.fi</a></body></html>
END:VEVENT
END:VCALENDAR
