BEGIN:VCALENDAR
VERSION:2.0
PRODID:-//tapahtumainfo.fi//NONSGML PETRI NYGARD - KRUUNA & KLAAVA//EN
METHOD:REQUEST
BEGIN:VEVENT
UID:20260419T165445-873056728-tapahtumainfo.fi
DTSTAMP:20260419T165445
DTSTART:20211203T233000Z
DTEND:20211203T020000Z
LOCATION:Ravintola Kruuna & Klaava
SUMMARY:PETRI NYGARD - KRUUNA & KLAAVA
DESCRIPTION:<html><head></head><body>Loppuunmyytyjä taloja paukuttava Petri Nygård saapuu vihdoin Kruunaan & Klaavaan pitkän tauon jälkeen 3.12.2021.<br><br>Petri Nygård nousi kansan tietoisuuteen hitillään Vitun suomirokkia 2000-luvun alussa. Levy myi kultaa ja Petri voitti Emma-palkinnon Vuoden ilmiöstä. Petrin comeback tapahtui vuonna 2009, jonka jälkeen mies on julkaissut lukemattoman määrän kultaa ja platinaa myyneitä klassikkohittejä mm. "Selvä päivä", "Märkää", "Onko sulla pokkaa?", Kippis kulaus".<br><br>2016 julkaistiin jättihitti "Pannaan Suomi Kuntoon" ja nyt uusin biisi Nössö nousi listojen kärkeen ja on striimannut miljoonia. <br /><br />  Visit event in our website: <a href='https://tapahtumainfo.fi/tapahtuma/2021/02/petri-nygard-kruuna-klaava/222145'>Tapahtumainfo.fi</a></body></html>
END:VEVENT
END:VCALENDAR
