BEGIN:VCALENDAR
VERSION:2.0
PRODID:-//tapahtumainfo.fi//NONSGML FRÖBELIN PALIKAT -LASTENKONSERTTI//EN
METHOD:REQUEST
BEGIN:VEVENT
UID:20260423T182503-335944632-tapahtumainfo.fi
DTSTAMP:20260423T182503
DTSTART:20200216T150000Z
DTEND:20200216T020000Z
LOCATION:Hatanpään koulu
SUMMARY:FRÖBELIN PALIKAT -LASTENKONSERTTI
DESCRIPTION:<html><head></head><body><b>Koko perheen suosittu lastenkonsertti, jossa yleisö voi laulaa ja leikkiä mukana. Fröbelin Palikat on neljän helsinkiläisen lastentarhanopettajan muodostama bändi, joka perustettiin v.1987 ja toimii edelleen alkuperäisellä kokoonpanolla.</b><br><br>Konsertin yhteydessä äänite-ja fanituotemyynti.<br><br>Konsertin kesto n. 60 min<br>Ei ikärajaa<br><br>Alle 1-vuotiaat veloituksetta <br /><br />  Visit event in our website: <a href='https://tapahtumainfo.fi/tapahtuma/2020/02/frobelin-palikat-lastenkonsertti/222466'>Tapahtumainfo.fi</a></body></html>
END:VEVENT
END:VCALENDAR
