BEGIN:VCALENDAR
VERSION:2.0
PRODID:-//tapahtumainfo.fi//NONSGML Sparkle -ilta SuperCornerissa//EN
METHOD:REQUEST
BEGIN:VEVENT
UID:20260423T125714-1485845499-tapahtumainfo.fi
DTSTAMP:20260423T125714
DTSTART:20200214T170000Z
DTEND:20200214T190000Z
LOCATION:Nilsiä
SUMMARY:Sparkle -ilta SuperCornerissa
DESCRIPTION:<html><head></head><body> <br /><br />  Visit event in our website: <a href='https://tapahtumainfo.fi/tapahtuma/2020/02/sparkle-ilta-supercornerissa/222668'>Tapahtumainfo.fi</a></body></html>
END:VEVENT
END:VCALENDAR
