BEGIN:VCALENDAR
VERSION:2.0
PRODID:-//tapahtumainfo.fi//NONSGML LAUKON KARTANO 2020//EN
METHOD:REQUEST
BEGIN:VEVENT
UID:20260425T190310-45075466-tapahtumainfo.fi
DTSTAMP:20260425T190310
DTSTART:20200801T180000Z
DTEND:20200801T020000Z
LOCATION:Laukon kartano
SUMMARY:LAUKON KARTANO 2020
DESCRIPTION:<html><head></head><body><b>LAUKON KARTANO</b><br><br>Upeissa puitteissa loistavia puistokonsertteja Tampereen kauneimmalla järviseudulla<br>25.6.2020 – 15.8.2020 | 20 tapahtumaa<br><br>Liput 25,00 €<br>Kausikortti 50,00 €<br><br><b>TAPAHTUMATIETO</b><br><br>Tampereen seudulla sijaitseva Laukon kartano tarjoaa kesävieraille loistavia puistokonsertteja, kiehtovia taidenäyttelyitä ja herkullista ruokaa.<br><br>Legendojen Laukon Kesässä 2020 maan parhaat puistokonsertit yhtä lailla klassisen ja jazzin kuin rockin ja popin ystäville.<br><br>Konserttivieraat herkuttelevat kauniissa kartanomiljöössä Puistoterasseilla, Laukko-ravintolassa, Suomi-Filmi -kahvilassa ja Burger-Grillissä.<br><br>Laukon kartanon konserttilipun hintaan sisältyy museolippu, jolla näet kaikki uudet taide- ja historianäyttelyt.<br><br>Muista myös Laukko-passi (kausikortti), joka on pääsylippusi kaikkiin tämän kesän konsertteihin ja näyttelyihin.<br><br>Lue lisää:<br><a href="https://www.laukonkartano.fi/" target="_blank">www.laukonkartano.fi</a><br><br>Seuraa meitä somessa:<br>Facebook: Laukon kartano | Instagram: @laukonkartano <br /><br />  Visit event in our website: <a href='https://tapahtumainfo.fi/tapahtuma/2020/08/laukon-kartano-2020/226113'>Tapahtumainfo.fi</a></body></html>
END:VEVENT
END:VCALENDAR
