BEGIN:VCALENDAR
VERSION:2.0
PRODID:-//tapahtumainfo.fi//NONSGML KREIVITÄR MARIZA -OPERETTI//EN
METHOD:REQUEST
BEGIN:VEVENT
UID:20260422T053303-859200621-tapahtumainfo.fi
DTSTAMP:20260422T053303
DTSTART:20221220T180000Z
DTEND:20221220T020000Z
LOCATION:Sibeliustalo, Pääsali
SUMMARY:KREIVITÄR MARIZA -OPERETTI
DESCRIPTION:<html><head></head><body>Rooleissa mm.: Anu Hälvä, Tiina Vahevaara, Jyrki Anttila, Jouni Kokora, Vikke Häkkinen, Aki Alamikkotervo ja Emilia Vesalainen-Pellas.<br><br>"<i>Oon czardaskavaljeeri ollut minäkin...</i>"<br>Wieniläisoperettien parhaimmistoon kuuluva <b>Kreivitär Mariza</b> on taidokkaasti sävelletty teos, jonka tarina tempaa katsojan mukaansa.<br><br>Luvassa on valekihlauksia, salanimiä sekä juonimista niin rahan kuin vallankin tähden. Operetin aarioihin lukeutuu yksi operettimusiikin tunnetuimmista kappaleista "Czardaskavaljeeri", joka valloittaa yleisön kerta toisensa jälkeen. <br /><br />  Visit event in our website: <a href='https://tapahtumainfo.fi/tapahtuma/2022/12/kreivitar-mariza-operetti/226615'>Tapahtumainfo.fi</a></body></html>
END:VEVENT
END:VCALENDAR
