BEGIN:VCALENDAR
VERSION:2.0
PRODID:-//tapahtumainfo.fi//NONSGML ARIMON STAND UP HOVI//EN
METHOD:REQUEST
BEGIN:VEVENT
UID:20260423T125900-1641314467-tapahtumainfo.fi
DTSTAMP:20260423T125900
DTSTART:20201205T190000Z
DTEND:20201205T020000Z
LOCATION:Juhlatalo Hovi
SUMMARY:ARIMON STAND UP HOVI
DESCRIPTION:<html><head></head><body><b>ARIMON STAND UP HOVI (K18) </b><br>Arimo Mustosen käsinpoimimat, maan parhaat koomikot viihdyttävät uudella Stand Up Clubilla Juhlatalo Hovissa. Hovinarrit vaihtuvat joka kerta, mutta laatu pysyy.<br><br>KAIKKI ESITYKSET K-18.<br>Mahdollisesti yllätysesiintyjiä!<br>kesto n. 2 h sis. väliajan<br><br>Pe 23.10. Illusia Sarvas, Arimo Mustonen, Tao Lin, Aurora Vasama<br>Pe 30.10. Riku Sottinen, Arimo Mustonen, Ville Kormilainen, Antti Akonniemi<br>La 7.11. Arimo Mustonen, Heikki Vilja, Petri Valkkinen, Joonas Moisio<br>Pe 13.11. Mc Tommi Mujunen, Ida Grönlund, Jari Teurajärvi, Harri Soinila<br>Pe 20.11. Mc Olli Siiki, Antti Haapala, Tommi Vänni, Eriikka Väliahde<br>La 28.11. Petri Hankonen, Tommi Tuominen, Jaakko Anttila, Eveliina Kulmala<br>La 5.12. Mc Fredi Lilius, Paul Westlake, TBA<br>La 12.12. Tomi Valamies, Rami Valli, Kimmo Aro, Eero Korso<br>La 19.12. Arimo Mustonen, Mikko Vaismaa, Saku Torssonen, Jussi Lankoski<br><br>Katsomo on numeroimaton, ovet avataan tuntia ennen esitystä. Tilassa on baari avoinna ennen esitystä ja väliajalla.<br>Tilaan ei ole mahdollista saapua pyörätuolilla.<br><br><b>ESITYKSET HOVISSA, SUKKAVARTAANKATU 9, 33100 TAMPERE</b><br><br><b>Ovimyynti</b> tuntia ennen esitystä Hovista, jos esityksessä on tilaa.<br>Lisätiedot: <a href="https://www.komediateatteri.fi/" target="_blank">www.komediateatteri.fi</a><br><br>Ryhmien lippuvaraukset vain Komediateatterin lipunmyynnin kautta p. 0207 288 388. <br /><br />  Visit event in our website: <a href='https://tapahtumainfo.fi/tapahtuma/2020/12/arimon-stand-up-hovi/227682'>Tapahtumainfo.fi</a></body></html>
END:VEVENT
END:VCALENDAR
