BEGIN:VCALENDAR
VERSION:2.0
PRODID:-//tapahtumainfo.fi//NONSGML Drive-In & Rock Nurmes 2021//EN
METHOD:REQUEST
BEGIN:VEVENT
UID:20260422T194824-1859047409-tapahtumainfo.fi
DTSTAMP:20260422T194824
DTSTART:20210820T020000Z
DTEND:20210820T020000Z
LOCATION:Hyvärilän alue
SUMMARY:Drive-In & Rock Nurmes 2021
DESCRIPTION:<html><head></head><body><p><strong>DRIVE IN &amp; ROCK 2021&nbsp;&nbsp;&nbsp;&nbsp;&nbsp;&nbsp;&nbsp;&nbsp;&nbsp;&nbsp;&nbsp;&nbsp;&nbsp;&nbsp;&nbsp;&nbsp;&nbsp;&nbsp;&nbsp;&nbsp;&nbsp;&nbsp;&nbsp;&nbsp;&nbsp;&nbsp;&nbsp;&nbsp;&nbsp;&nbsp;&nbsp;&nbsp;&nbsp;&nbsp;&nbsp;&nbsp;&nbsp;&nbsp;&nbsp;&nbsp;&nbsp;&nbsp;&nbsp;&nbsp;&nbsp;&nbsp;&nbsp;&nbsp;&nbsp;&nbsp;&nbsp;&nbsp; <br /> </strong></p><br /><p>Ensimm&auml;inen drive-in-elokuva pidettiin Nurmeksessa vuonna 2012. Vuodesta 2013 alkaen aina 2019 saakka tapahtuma Drive-in &amp; Rock j&auml;rjestettiin yhteisty&ouml;ss&auml; Hyv&auml;ril&auml; nuoriso-ja matkailukeskuksen, Break Sokos hotel Bomban, tapahtumantuottaja Timba Oy:n ja&nbsp; jenkkiautokerho Wolfbound Cruisers ry:n kanssa Bomba-Hyv&auml;ril&auml; alueella. Suositussa tapahtumassa on n&auml;hty vuosien varrella sek&auml; kotimaisia ett&auml; ulkomaisia huippuesiintyji&auml; ja drive-in ulkoilma elokuvaa on katseltu sadoista autokunnista j&auml;ttiscreenilt&auml;. Vuosi 2020 j&auml;i v&auml;liin koronaepidemian vuoksi.&nbsp;</p><br /><p>T&auml;n&auml; vuonna 2021 tapahtuma palaa uudistettuna ja parempana kuin koskaan. Nyt viikonlopun tapahtumapaikkana on keskitetysti Hyv&auml;ril&auml;n nuoriso- ja matkailukeskus. Koko tapahtuman ohjelmatarjonta - esiintyj&auml;t, auton&auml;yttely, drive-in elokuva, rastiajo, koko perheen p&auml;iv&auml;tapahtuma sek&auml; ravintola- ja majoituspalvelut l&ouml;ytyv&auml;t alueelta.&nbsp;&nbsp;</p><br /><p>Viikonlopun aikana monitoimihalli PielisAreenalla n&auml;hd&auml;&auml;n ja kuullaan tasokkaita esiintyji&auml; ja artisteja mm. Kustom Kulture Goes Drive-In &amp; Rock, p&auml;iv&auml;tapahtumassa kaikenik&auml;isille Hevisaurus, n&auml;ytteilleasettajia ja myyji&auml;. Uusien Harley Davidson moottoripy&ouml;rien koeajotilaisuus ym. ja iltap&auml;iv&auml;ll&auml; starttaa my&ouml;s perinteinen rastiajo. Lauantai ilta huipentuu Ganes elokuvaan drive-in kent&auml;ll&auml;.</p><br /><p><strong>Kustom Kulture goes Drive-In &amp; Rock!&nbsp;</strong></p><br /><p>T&auml;n&auml; vuonna tapahtuma saa hienon vahvistuksen, kun kansainv&auml;lisen tason kustom kulttuuri-taiteilijoita ja erikoisk&auml;sity&ouml;l&auml;isi&auml; vierailee omilla st&auml;ndeill&auml;&auml;n tapahtumassa. Mukana mm. Pinstriping Legend&nbsp; Pekka &quot;Wizzz&quot; Mannermaa , Marco &quot;Platu&quot; Planting ja Jussi Alasalmi.&nbsp;</p><br /><p>Nyt on mahdollisuus n&auml;hd&auml; ja tutustua pinstriping-maalauksen saloihin, tyyliin ja tekniikkaan.</p><br /><p>Lis&auml;ksi mukana useita mielenkiintoisia taitajia ja k&auml;sity&ouml;l&auml;isi&auml;, joita kustom kulttuuri yhdist&auml;&auml; vahvasti.</p><br /><p><span style="text-decoration: underline;"><strong>Ohjelma</strong> </span></p><br /><p><strong>PE 20.8</strong></p><br /><p>Black Devils &amp; Ile Kallio plays Hurriganes<br /> Texas Oil<br /> Beatmakers &amp; Pekka Tiilikainen</p><br /><p><strong>LA 21.8</strong></p><br /><p>Brandy Rockers<br /> Buddy Holly Show<br /> Generals<br /> P&auml;&auml;esiintyj&auml;t</p><br /><p>Lastenkonsertti ja p&auml;iv&auml;ohjelma (<em>ilmainen ja ik&auml;rajaton</em> )</p><br /><p>Hevisaurus <br /> Kustom Kulture<br /> Drive-In elokuva&nbsp; - Ganes<br /> Harley Davidson koeajotilaisuus&nbsp;<br /> Auton&auml;yttely ja rastiajo&nbsp;&nbsp;</p><br /><p>***</p><br /><p><em>Mik&auml;li uusi ajankohta ei sovi, voit palauttaa liput verkkosivuiltamme l&ouml;ytyv&auml;ll&auml; lomakkeella <a href="http://www.tiketti.fi/palautalippuja">www.tiketti.fi/palautalippuja</a> 19.4.2021 menness&auml;.</em></p><br /><p>&nbsp;</p><br /><br /><p>Liput vaihdetaan rannekkeisiin.</p><br /><p>Alaik&auml;iset p&auml;&auml;sev&auml;t tapahtumaan lipunostaneen aikuisen seurassa.</p> <br /><br />  Visit event in our website: <a href='https://tapahtumainfo.fi/tapahtuma/2021/08/drive-in-rock-nurmes-2021/228342'>Tapahtumainfo.fi</a></body></html>
END:VEVENT
END:VCALENDAR
