BEGIN:VCALENDAR
VERSION:2.0
PRODID:-//tapahtumainfo.fi//NONSGML MyPub goes Kasino//EN
METHOD:REQUEST
BEGIN:VEVENT
UID:20260425T162952-597537687-tapahtumainfo.fi
DTSTAMP:20260425T162952
DTSTART:20200627T020000Z
DTEND:20200627T020000Z
LOCATION:MyPub
SUMMARY:MyPub goes Kasino
DESCRIPTION:<html><head></head><body><h2>MyPub Goes Kasino valtaa toistamiseen Haaganlammen rannan upean milj&ouml;&ouml;n ja t&auml;ytt&auml;&auml; Kasinon iloisesta festariv&auml;est&auml;!</h2><br /><p>Lauantain 27.6. kattauksesta l&ouml;ytyy Suomen radioiden k&auml;rkiartisti Irina, huikeista bileist&auml;&auml;n tunnettu Hesa&Auml;ij&auml;, syksyll&auml; Haapaj&auml;rvisten syd&auml;met valloittanut Oliver (virallinen) ja hitti&auml; hitin per&auml;&auml;n iskev&auml; Suomidisco hittikiertue! Paikallista osaamista festareilla t&auml;n&auml; vuonna tarjoaa rehellist&auml; rockia soittava Override!</p><br /><p><a href="https://www.facebook.com/events/765775170469912/" target="_blank">Facebook-tapahtuma</a></p><br /><br /><p>Liput vaihdetaan rannekkeisiin tapahtumapaikalla.</p><br /><p>Liput ovelta 35 &euro;, mik&auml;li j&auml;ljell&auml;.</p> <br /><br />  Visit event in our website: <a href='https://tapahtumainfo.fi/tapahtuma/2020/06/mypub-goes-kasino/231926'>Tapahtumainfo.fi</a></body></html>
END:VEVENT
END:VCALENDAR
