BEGIN:VCALENDAR
VERSION:2.0
PRODID:-//tapahtumainfo.fi//NONSGML OG Ulla-Maija//EN
METHOD:REQUEST
BEGIN:VEVENT
UID:20260422T194127-1841775652-tapahtumainfo.fi
DTSTAMP:20260422T194127
DTSTART:20200827T020000Z
DTEND:20200827T020000Z
LOCATION:Makasiiniravintola Albatrossin piha
SUMMARY:OG Ulla-Maija
DESCRIPTION:<html><head></head><body><p>Suomalaisen "gangstar&auml;pin" nousevimpiin nimiin sek&auml; some-ilmi&ouml;ihin lukeutuva - huhujen mukaan hiljalleen savolaistunut - <a href="https://www.facebook.com/OGULLAMAIJA/" target="_blank">OG Ulla-Maija</a> on ker&auml;nnyt Youtubessa julkaisemilleen videoille jo yli 20 miljoonaa katselukertaa.</p><br /><p>H&auml;vytt&ouml;m&auml;n huumorin s&auml;vytt&auml;m&auml;t kappaleet seikkailevat jossain mauttoman mielikuvituksen ja todellisuuden rajamaastossa. OGUM on pit&auml;nyt tinkim&auml;tt&ouml;m&auml;sti kiinni omasta tyylist&auml;&auml;n, t&auml;st&auml; lis&auml;makua tuo uusi kes&auml;kumibiisi "VHS &amp; Anal".</p><br /><br /><p><strong>Liput ovelta 15 &euro;, mik&auml;li j&auml;ljell&auml;.</strong></p> <br /><br />  Visit event in our website: <a href='https://tapahtumainfo.fi/tapahtuma/2020/08/og-ulla-maija/237999'>Tapahtumainfo.fi</a></body></html>
END:VEVENT
END:VCALENDAR
