BEGIN:VCALENDAR
VERSION:2.0
PRODID:-//tapahtumainfo.fi//NONSGML KIURUVEDEN ISKELMÄVIIKKO 2021//EN
METHOD:REQUEST
BEGIN:VEVENT
UID:20260423T130451-1309808441-tapahtumainfo.fi
DTSTAMP:20260423T130451
DTSTART:20210716T110000Z
DTEND:20210716T020000Z
LOCATION:IskelmäAreena
SUMMARY:KIURUVEDEN ISKELMÄVIIKKO 2021
DESCRIPTION:<html><head></head><body><b>Kiuruveden Iskelmäviikko 2021</b><br>14.-18.7.2021<br><br>***<br><br>Tietoa lipputyypeistä:<br><br><b>Iskelmäpassi </b>on ranneke, joka oikeuttaa pääsyyn kaikkiin IskelmäAreenan ja TanssiAreenan konsertteihin. Passilla on kätevä kulkea tapahtumassa koko Iskelmäviikon ajan.<br><br>Karavaanarin Iskelmäpassi: alueillamme majoittuvat karavaanarit saavat Iskelmäpassit halvempaan karavaanihintaan. Iskelmäpassit ovat myynnissä ennakkoon Iskelmätoimistolla tai osoitteessa lippu.fi. Passeja voi myös ostaa paikan päältä tullessaan ilmoittautumaan karavaanipaikoille.<br><br>Iskelmäpassi ei sisällä sisäänpääsyä Pyhäsalmen suurlavan ja Kyllikinrannan tansseihin.<br><br><b>Viikonloppupassi</b> on myös ranneke, joka oikeuttaa pääsyyn IskelmäAreenan ja TanssiAreenan konsertteihin viikonlopun ajan sisältäen koko perjantain ja lauantain. Sunnuntainahan alueelle on vapaa pääsy.<br><br><b>Päiväliput</b> toimivat pääsylippuina tapahtuman päiväohjelmiin. Päivälipulla saat siis nähdä kaikki päiväohjelmaan kuuluvat esitykset ja artistit (n. klo 11.00–16.00).<br><br><b>Iltaliput</b> toimivat pääsylippuina tapahtuman iltaohjelmiin. Iltalipulla pääset näkemään kaikki iltaohjelman esiintyjät (portit avataan klo 18.00).<br><br><b>Yölipulla</b> pääset katsomaan illan viimeisiä esiintyjiä ke-la klo 22.00 alkaen.<br>Huom: Jos sinulla on iltalippu, et tarvitse enää yölippua.<br><br>0–11 -vuotiaat pääsevät vanhempien seurassa ilmaiseksi IskelmäAreenan alueelle.<br><br><b>VIP-liput </b><br>Iskelmäviikon VIP-alue tarjoaa lisää nautintoa festivaali-iltaan. Alue sijaitsee päälavan läheisyydessä. Alueella on omat<br>WC-tilat, terassi ja anniskelualue. Alueella voit nauttia iltaohjelman aikaan maittavasta buffetruokailusta. Ruokailusta<br>vastaa Hyvän Maun ravintola.<br><br>VIP-ruokailu on avoinna tapahtuma-alueen iltaohjelmassa klo 18.30-22.00. Alue on avoinna konserttien päättymiseen<br>saakka (noin klo 2.00). VIP-alue on K-18.<br><br>Lisätietoja:<br><a href="https://www.facebook.com/Iskelmaviikko/" target="_blank">Iskelmäviikko Facebook </a><br><a href="https://www.iskelmaviikko.fi" target="_blank">www.iskelmaviikko.fi</a><br><br> <br /><br />  Visit event in our website: <a href='https://tapahtumainfo.fi/tapahtuma/2021/07/kiuruveden-iskelmaviikko-2021/244969'>Tapahtumainfo.fi</a></body></html>
END:VEVENT
END:VCALENDAR
