BEGIN:VCALENDAR
VERSION:2.0
PRODID:-//tapahtumainfo.fi//NONSGML STIG//EN
METHOD:REQUEST
BEGIN:VEVENT
UID:20260420T011210-36453509-tapahtumainfo.fi
DTSTAMP:20260420T011210
DTSTART:20210121T190000Z
DTEND:20210121T020000Z
LOCATION:Kerava-sali
SUMMARY:STIG
DESCRIPTION:<html><head></head><body>Lukuisia kulta- ja platinasinglejä vuosien varrella julkaissut STIG on tarjonnut suomalaisille useita kestohittejä, kuten esimerkiksi Puumaa mä metsästän ja Original gigolo (feat. Teflon Brothers). <br><br>Vuonna 2015 julkaistu albumi STIG sisälsi jättihitin Roy Orbison, joka oli sen vuoden yhdeksänneksi soitetuin kappale Suomen radioissa. Roy Orbison oli myös ehdolla Vuoden biisiksi 2016 Emma Gaalassa. <br>Vuonna 2019 Stig julkaisi singlet Lonkeronvärinen taivas, Sitä sun tätä sekä Biip biip. <br /><br />  Visit event in our website: <a href='https://tapahtumainfo.fi/tapahtuma/2021/01/stig/248474'>Tapahtumainfo.fi</a></body></html>
END:VEVENT
END:VCALENDAR
