BEGIN:VCALENDAR
VERSION:2.0
PRODID:-//tapahtumainfo.fi//NONSGML MARJO LEINONEN & LEINO-ZET//EN
METHOD:REQUEST
BEGIN:VEVENT
UID:20260423T130329-1076486499-tapahtumainfo.fi
DTSTAMP:20260423T130329
DTSTART:20201128T180000Z
DTEND:20201128T020000Z
LOCATION:Ravintola Harmooni
SUMMARY:MARJO LEINONEN & LEINO-ZET
DESCRIPTION:<html><head></head><body><b>Harmooni Live esittää:</b> <br><b>Marjo & Leino-zet</b> veivaa Leinosen laulajanuran varrelta niskakarvoja nostattavaa ja selkäpiitä kutkuttavaa root’n rollia jossa kolmensoinnun temmellyskenttä on vapaa!<br><br>Marjo Leinonen on maamme persoonallisimpiin lauluääniin kuuluva soul’n’blues artisti, joka saapuu Harmoonille Leino-zet triolla. Pysäyttävä blues ja säkenöivä soul pitää LeinoZet lennossa.<br><br>Tiedossa tilanne herkkää tulkintaa yllätyksillä….<br><br>Illan aikana nautitaan kolmen ruokalajin pöytiin tarjoiltu illallinen.<br>MENU<br>Alkuruoka: Madekeitto<br>Pääruoka: Poron osso buco<br>Jälkiruoka: Suklaa ganache<br>Tule kokemaan musiikillinen makuelämys ravintola Harmoonin live-iltaan Harmoonisaliin.<br>Paikkoja on rajatusti, varaa nyt seurueellesi liput ajoissa.<br> <br /><br />  Visit event in our website: <a href='https://tapahtumainfo.fi/tapahtuma/2020/11/marjo-leinonen-leino-zet/251072'>Tapahtumainfo.fi</a></body></html>
END:VEVENT
END:VCALENDAR
