BEGIN:VCALENDAR
VERSION:2.0
PRODID:-//tapahtumainfo.fi//NONSGML Peppi Pitkätossu//EN
METHOD:REQUEST
BEGIN:VEVENT
UID:20260422T184454-1308691926-tapahtumainfo.fi
DTSTAMP:20260422T184454
DTSTART:20210529T160000Z
DTEND:20210529T020000Z
LOCATION:Alvar
SUMMARY:Peppi Pitkätossu
DESCRIPTION:<html><head></head><body><b>Seinäjoen kaupunginteatteri</b><br /><b>Alvar Aallon katu 12, 60100 Seinäjoki</b><br /><br />Astrid Lindgrenin Peppi Pitkätossu on hurmaava tarina räväkästä, itsenäisestä ja sanavalmiista tytöstä. Normeista piittaamaton Peppi käyttäytyy aikuisia kohtaan kurittomasti, mutta toisille lapsille hän on aina pyyteetön ja oikeudenmukainen. Mukaansatempaavien laulujen ja vauhdikkaan menon siivittämä tarina ilahduttaa ja sopii koko perheelle!<br /><br />Teatteriliput 3 - 4 hlön ryhmille myydään ainoastaan teatterin lippumyymälässä! 0104162600 <br /><br />  Visit event in our website: <a href='https://tapahtumainfo.fi/tapahtuma/2021/04/peppi-pitkatossu/252650'>Tapahtumainfo.fi</a></body></html>
END:VEVENT
END:VCALENDAR
