BEGIN:VCALENDAR
VERSION:2.0
PRODID:-//tapahtumainfo.fi//NONSGML MARISKA (Keikka on siirtynyt Klubin puolelle.)//EN
METHOD:REQUEST
BEGIN:VEVENT
UID:20260424T190437-76799780-tapahtumainfo.fi
DTSTAMP:20260424T190437
DTSTART:20221111T183000Z
DTEND:20221111T020000Z
LOCATION:Tullikamarin Pakkahuone
SUMMARY:MARISKA (Keikka on siirtynyt Klubin puolelle.)
DESCRIPTION:<html><head></head><body><b>MARISKA & PAHAT SUDET NELJÄLLE KEIKALLE </b><br><br>Vuonna 2013 lopettanut Mariska & Pahat Sudet -yhtye tekee neljän keikan klubikiertueen helmikuussa. Kaksi albumia julkaissut yhtye nähdään Helsingissä, Tampereella, Jyväskylässä sekä Lahdessa. <br><br>Mariska & Pahat Sudet on suomalainen poppia, jazzia ja iskelmää esittävä yhtye. Sen muodostavat Mariska, Jaakko Jakku, Klaus Suominen ja Luis Herrero. Yhtye julkaisi omaa nimeään kantavan albuminsa Mariska & Pahat Sudet toukokuussa 2010, joka sai jatkoa syyskuussa 2012 julkaistusta Kukkurukuu-albumista. Molemmat albumit ovat myyneet kultaa. Yhtyeen tunnetuimpia kappaleita ovat Suloinen myrkynkeittäjä, Liekki ja Kukkurukuu. Yhtye lopetti toimintansa kesän 2013 jälkeen. <br><br>Kiertueen keikat toteutetaan rajoitetuilla kapasiteeteilla turvavälit huomioiden. <br><br> <br /><br />  Visit event in our website: <a href='https://tapahtumainfo.fi/tapahtuma/2022/11/mariska-keikka-on-siirtynyt-klubin-puolelle/254032'>Tapahtumainfo.fi</a></body></html>
END:VEVENT
END:VCALENDAR
