BEGIN:VCALENDAR
VERSION:2.0
PRODID:-//tapahtumainfo.fi//NONSGML NAANTALIN KYLPYLÄN LAHJAKORTIT//EN
METHOD:REQUEST
BEGIN:VEVENT
UID:20260425T202736-1210966443-tapahtumainfo.fi
DTSTAMP:20260425T202736
DTSTART:20261231T235900Z
DTEND:20261231T020000Z
LOCATION:Naantalin Kylpylän lahjakortit
SUMMARY:NAANTALIN KYLPYLÄN LAHJAKORTIT
DESCRIPTION:<html><head></head><body>Naantalin Kylpylän lahjakortti käy maksuvälineenä Naantalin Kylpylässä, ja sillä voi maksaa majoitus-, ravintola- ja hoitopalveluita sekä tuoteostoksia.<br><br>Lahjakortti on voimassa 12kk ostopäivästä. Lahjakorttia ei voi vaihtaa rahaksi, eikä sen arvoa voida hyvittää sen voimassaolon päätyttyä.<br><br>Lahjakortteja voi ostaa seuraaville summillle:<br><br>Lahjakortti 50€, lahjakortin hinta palvelumaksuineen 54,60€<br>Lahjakortti 100€, lahjakortin hinta palvelumaksuineen 104,60€<br>Lahjakortti 250€, lahjakortin hinta palvelumaksuineen 254,60€<br>Lahjakortti 500€, lahjakortin hinta palvelumaksuineen 504,60€<br><br> <br /><br />  Visit event in our website: <a href='https://tapahtumainfo.fi/tapahtuma/2026/12/naantalin-kylpylan-lahjakortit/256190'>Tapahtumainfo.fi</a></body></html>
END:VEVENT
END:VCALENDAR
