BEGIN:VCALENDAR
VERSION:2.0
PRODID:-//tapahtumainfo.fi//NONSGML KARJUROCK 2021 GOLDEN VIP - TORSTAI//EN
METHOD:REQUEST
BEGIN:VEVENT
UID:20260423T130732-1075032503-tapahtumainfo.fi
DTSTAMP:20260423T130732
DTSTART:20210722T020000Z
DTEND:20210722T020000Z
LOCATION:KARJUROCK
SUMMARY:KARJUROCK 2021 GOLDEN VIP - TORSTAI
DESCRIPTION:<html><head></head><body> <br /><br />  Visit event in our website: <a href='https://tapahtumainfo.fi/tapahtuma/2021/07/karjurock-2021-golden-vip-torstai/262684'>Tapahtumainfo.fi</a></body></html>
END:VEVENT
END:VCALENDAR
