BEGIN:VCALENDAR
VERSION:2.0
PRODID:-//tapahtumainfo.fi//NONSGML MUSTANLAHDEN TAPAHTUMASATAMA KESÄ 2021//EN
METHOD:REQUEST
BEGIN:VEVENT
UID:20260423T183919-1861712582-tapahtumainfo.fi
DTSTAMP:20260423T183919
DTSTART:20210813T210000Z
DTEND:20210813T020000Z
LOCATION:Mustanlahden Tapahtumasatama / Ravintola Kaisla
SUMMARY:MUSTANLAHDEN TAPAHTUMASATAMA KESÄ 2021
DESCRIPTION:<html><head></head><body> <br /><br />  Visit event in our website: <a href='https://tapahtumainfo.fi/tapahtuma/2021/08/mustanlahden-tapahtumasatama-kesa-2021/264042'>Tapahtumainfo.fi</a></body></html>
END:VEVENT
END:VCALENDAR
