BEGIN:VCALENDAR
VERSION:2.0
PRODID:-//tapahtumainfo.fi//NONSGML Wanaja Festival 2022//EN
METHOD:REQUEST
BEGIN:VEVENT
UID:20260419T163158-1372240829-tapahtumainfo.fi
DTSTAMP:20260419T163158
DTSTART:20220708T020000Z
DTEND:20220708T020000Z
LOCATION:Linnanpuisto
SUMMARY:Wanaja Festival 2022
DESCRIPTION:<html><head></head><body><h2><strong>WANAJA 2022 - LIPUT & INFO</strong> <span dir="auto"></span><br></h2><br /><p><strong>WANAJA FESTIVAL RAIKAA TAAS 8.-9.7.2022!</strong><br><br />Hämptonin ylpeys tarjoilee kovan kattauksen kotimaisia huippunimiä Suomen kauneimmalla festivaalialueella. Lavalle astelevat Suomen suurin bändi ja toivottu vieras <strong>Haloo Helsinki!</strong>,&nbsp;yli kahden vuoden tauon jälkeen festivaalilavoille paluun tekevä<strong> Anna Puu</strong>, monilahjakas <strong>Vesala</strong>, “<em>Terveisin Doris</em>” -hitillä radioaalloilla viihtynyt <strong>Mariska</strong> sekä mm. YUP:n keulakuvana tunnettu <strong>Jarkko Martikainen ja Luotetut miehet</strong>.</p><br /><p><strong>ESIINTYJÄT</strong><br><br />Haloo Helsinki!, Anna Puu, Vesala, Mariska, Jarkko Martikainen ja Luotetut miehet</p><br /><p>Lisää ohjelmaa julkaistaan alkuvuodesta 2022.</p><br /><p> <br> </p><br /><p><a href="https://www.facebook.com/events/485382485528739/" target="_blank">Facebook</a> | <a href="https://www.instagram.com/wanajafestival/?hl=fi" target="_blank">Instagram</a> @wanajafestival</p><br /><br /><p><strong>Lippujen varausaika 2 päivää.</strong></p><br /><p><strong>Liput vaihdetaan rannekkeisiin.</strong></p><br /><p><strong>VIP-lippu (K-18) sisältää: <br> </strong> - Sisäänpääsyn VIP-alueelle ja festivaalialueelle<br> - Monipuolisen VIP-menun VIP-alueella<br> - VIP-passin ja rannekkeen<br> - VIP-alueen omat ravintolapalvelut<br> - Vain VIP-asiakkaille suunniteltua oheisohjelmaa VIP-alueella<br> <br> <strong><em>VIP-lippuja ei ole mahdollista maksaa kulttuurieduilla.</em> </strong></p><br /><p>Oikeudet aikataulu- ja ohjelmamuutoksiin pidätetään.</p> <br /><br />  Visit event in our website: <a href='https://tapahtumainfo.fi/tapahtuma/2022/07/wanaja-festival-2022/267274'>Tapahtumainfo.fi</a></body></html>
END:VEVENT
END:VCALENDAR
