BEGIN:VCALENDAR
VERSION:2.0
PRODID:-//tapahtumainfo.fi//NONSGML Sirkus Finlandia - TURKU//EN
METHOD:REQUEST
BEGIN:VEVENT
UID:20260423T182447-1004350420-tapahtumainfo.fi
DTSTAMP:20260423T182447
DTSTART:20210828T130000Z
DTEND:20210828T020000Z
LOCATION:SIRKUS FINLANDIA
SUMMARY:Sirkus Finlandia - TURKU
DESCRIPTION:<html><head></head><body>SIRKUS FINLANDIA - Suomen kansallissirkus Tarkka tapahtumapaikka, lisätiedot ja mahdolliset muutokset: www.sirkusfinlandia.fi  <br /><br />  Visit event in our website: <a href='https://tapahtumainfo.fi/tapahtuma/2021/08/sirkus-finlandia-turku/267338'>Tapahtumainfo.fi</a></body></html>
END:VEVENT
END:VCALENDAR
