BEGIN:VCALENDAR
VERSION:2.0
PRODID:-//tapahtumainfo.fi//NONSGML Knucklebone Oscar, RelaxTrio, AT’s Roots & Ramblin’//EN
METHOD:REQUEST
BEGIN:VEVENT
UID:20260424T191531-1640813654-tapahtumainfo.fi
DTSTAMP:20260424T191531
DTSTART:20220916T020000Z
DTEND:20220916T020000Z
LOCATION:Möysän Musaklubi
SUMMARY:Knucklebone Oscar, RelaxTrio, AT’s Roots & Ramblin’
DESCRIPTION:<html><head></head><body><p><strong>Tapahtuma on siirtynyt.</strong> </p><br /><p>Alkuperäiselle päivämäärälle 29.1.2022 ostetut liput käyvät tapahtumaan sellaisinaan. Mikäli uusi ajankohta ei sovi, voit palauttaa liput verkkosivuiltamme löytyvällä lomakkeella <a href="http://www.tiketti.fi/palautalippuja" target="_blank" rel="noreferrer noopener">www.tiketti.fi/palautalippuja</a> 12.3.2022 mennessä. </p><br /><p>***</p><br /><p><strong>Knucklebone Oscar</strong><br><br /><br><br />Knucklebone Oscar on Suomen lahja rokkenroll -hulluudelle. Kitararatykittäjän tavaramerkkejä on energiset keikat ja ultraviihdyttävä lavashow. Oscar on edustanut Suomea bluesin MM -kisoissa Memphisissä, rundannut Kiinassa, tarjoillut UMK:ssa burleskishown, julkaissut kasan levyjä, esittänyt raakaa gospelia ja tähdittänyt jopa täyspitkää 'Knucklebonehead' teatterielokuvaa. Lisäksi mies esiintyy Ylen Vintage Valtakunta tv-sarjassa ja tuomaroi Nelosen "All Together Now" laulukilpailua. Oscar has done and seen it all.<br><br /><br><br />Knucklebone Oscar on omimmillaan oman bändinsä kanssa, laulajana ja armoitettuna kitaranriivaajana. Livenä repertuaarissa on voimakasta rytmibluesia, rokkenrollia ja riemastuttavaa lava-actionia nelihenkisen bändin kanssa.<br><br /><br><br /><strong>RelaxTrio</strong><br><br /><br><br />RelaxTrio on vuonna 2004 perustettu tiukkaakin tiukempi power trio, jonka Rock ’n’ Roll -paahto ei taatusti jätä ketään kylmäksi. Bändi on tunnettu energisistä ja vauhdikkaista keikoistaan ,ja se ammentaa musiikissaan vaikutteita niin modernin rockabillyn, psychobillyn kuin punkrockinkin maailmoista. Vuosien varrella kolmikko on kotimaan klubien lisäksi kiertänyt ahkerasti ympäri Eurooppaa alan tapahtumissa ja festivaaleilla. Ensimmäisen, itärannikkoon painottuvan, jenkkirundin bändi rykäisi kesällä 2019.<br><br /><br><br />RelaxTrio on julkaissut kolme pitkäsoittoa sekä yhden neljän biisin EP:n Jungle Records -levy-yhtiölle. Tällä hetkellä bändi työstää neljättä albumiaan, joka tulee näkemään päivänvalon 2022 alkupuolella.<br><br /><br><br /><strong>AT’s Roots & Ramblin’</strong><br><br /><br><br />AT’s Roots & Ramblin’ on nuori ja lahjakas trio, omalla uniikilla soundillaan ja freshillä kosketuksellaan rock’n’rolliin. Yhtye julkaisi debyyttialbuminsa ’Notes From The Backwoods’ toukokuussa 2019 ja kiersivät kotimaan lisäksi mm. Ruotsissa Fatboyn kanssa sekä Englannissa Rockabilly Rave -festareilla.<br><br /><br><br />Bändi on tunnettu energisistä keikoistaan. Toinen levy julkaistaan lokakuun lopulla 2021 ja albumilta on julkaistu singlet ”Sticks & Stones with Hannu Kiviaho from FATBOY”, ”New Doll” & ”Smokey Page Bettie”. Uudet julkaisut ovat päätyneet sekä kotimaan että ulkomaiden isoimmille Spotify -soittolistoille (mm. useasti puolimiljoonaa kuuntelijaa omaavalle ”Rockabilly Mania” -listalle) ja soinut ympäri maailmaa radiokanavilla.<br></p><br /><p>Möysä: <a href="http://www.instagram.com/moysanmusaklubi" target="_blank">facebook</a> / i<a href="http://www.instagram.com/moysanmusaklubi" target="_blank">nstagram</a></p><br /><p><em>***<br><em><em><em><em><em><em>Mössön koronainfon ja turvallisuusohjeet löydät <a href="https://moysa.fi/info/" target="_blank">TÄÄLTÄ</a>.</em></em></em></em></em></em><em><em><em><em><em><em></em></em></em></em></em></em></em></p><br /><br /><p><strong>Showtime:</strong><br>21:00 AT’s Roots & Ramblin’ <br>22:30 RelaxTrio <br>24:00 Knucklebone Oscar</p><br /><h2><a href="https://www.tiketti.fi/moysa-paidat-tuotteet/69304" target="_blank">Osta Möysä-paita täältä!</a></h2><br /><h2></h2><br /><p><strong><strong><strong><strong><span style="text-decoration: underline;"><strong><strong><span style="text-decoration: underline;">Klubikatsomo-lippu</span> </strong> (sisältää keikkalipun)</strong> </span> </strong> </strong> </strong> </strong> <br> - sisäänkäynti klubikatsomon ovesta, ilman jonotusta.<br> - narikka sisältyy hintaan.<br> - paikka klubikatsomosta josta erinomainen näkyvyys lavalle, halutessasi istumapaikka.<br> - lippu vaihdetaan rannekkeeseen.</p><br /><p><span style="text-decoration: underline;"><strong>Punainen VIP-aitio</strong> </span> <br> (HUOM! Keikkaliput ostettava erikseen!)<br> - lippu sisältää max. 15 henkilön sisäänpääsyn aitioon. Aitiovuokra ei   sisällä pääsylippuja ja eteispalvelumaksua. Sisäänkäynti aitioon ilman   jonotusta.</p><br /><p><span style="text-decoration: underline;"><strong>Jallu VIP-aitio</strong> </span> <br> (HUOM! Keikkaliput ostettava erikseen!)<br> - lippu sisältää max. 25 henkilön sisäänpääsyn aitioon. Aitiovuokra ei   sisällä pääsylippuja ja eteispalvelumaksua. Sisäänkäynti aitioon ilman   jonotusta.</p><br /><p><em>* aitiossa pääset oman porukan kesken nauttimaan keikasta. Aitiot       sijaitsevat paraatipaikalla hyvällä näkyvyydellä lavalle ja se on    vain    teidän seurueenne käytössä koko illan.&nbsp;</em> <em><br> <em>* Musaklubin maistuva menu on erinomainen vaihtoehto ruokailla rauhassa ennen keikkaa.&nbsp;</em> </em></p><br /><p><em>Lisätiedot aitiovuokrauksesta: ansku(a)</em> <a href="http://moysa.fi/"><em>moysa.fi</em> </a> <em>. Aitioihin on mahdollista tilata juomia ennakkoon.</em></p><br /><p><strong><em>HUOM! Aitio-lippuja ei voi maksaa kulttuurieduilla.</em> </strong></p><br /><h3>Z-YÖJUNA HELSINKIIN</h3><br /><p>Nyt pääset viikonloppuisin Helsingistä junalla sujuvasti Möysän   musaklubin eli Mössön keikoille Lahteen ja heti keikan jälkeen takaisin.</p><br /><p>Viimeinen Z-juna perjantaisin ja lauantaisin lähtee Lahdesta   Helsinkiin klo 00.30 ja on perillä Helsingissä klo 01.30. Jatkossa   helsinkiläisetkin ehtivät siis katsomaan Mössön perjantain ja lauantain   keikan rauhassa loppuun asti. Virvoittava viiden minuutin kävely   Mössöltä Lahden rautatieasemalle ja VR hoitaa loput!</p><br /><p>Tarkista juna-aikataulut <a href="https://www.vr.fi/cs/vr/fi/etusivu" target="_blank">täältä</a> .</p><br /><p><strong>Lipun ostaneiden asiakkaiden yhteystiedot luovutetaan järjestäjälle tiedottamista / ohjeistamista varten.</strong></p><br /><p><strong>Pyörätuolilla kulku Mössölle tapahtuu henkilökunnan avustamana sisäpihan kautta. Klubilla pääsee liikkumaan pyörätuolilla rajoitetusti.<br></strong></p> <br /><br />  Visit event in our website: <a href='https://tapahtumainfo.fi/tapahtuma/2021/12/knucklebone-oscar-relaxtrio-at-s-roots-ramblin/267752'>Tapahtumainfo.fi</a></body></html>
END:VEVENT
END:VCALENDAR
