BEGIN:VCALENDAR
VERSION:2.0
PRODID:-//tapahtumainfo.fi//NONSGML VERKKOKAUPAN LAHJAKORTTI//EN
METHOD:REQUEST
BEGIN:VEVENT
UID:20260420T142346-1254499235-tapahtumainfo.fi
DTSTAMP:20260420T142346
DTSTART:20271231T235900Z
DTEND:20271231T020000Z
LOCATION:Lippu.fi lahjakortti
SUMMARY:VERKKOKAUPAN LAHJAKORTTI
DESCRIPTION:<html><head></head><body><b>EN GÅVA FYLLD AV KÄNSLOR!<br>LAHJA TÄYNNÄ TUNTEITA! </b><br><br>Den här gåvan sjuder av skratt, spänning, äventyr, vänskap, upplevelser och gemenskap. Njut!<br>Tästä lahjasta tulvii naurua, jännitystä, seikkailua, ystävyyttä, elämyksiä ja yhteisöllisyyttä. Nauti!<br>------------------------------------------------------------------------------------------------------------------------<br><br>Lahjakortti on saatavissa 5-500 €:n arvoisena.<br><br><b>Lahjakortti on voimassa yhden (1) vuoden ostopäivästä.</b> Lahjakortin arvoa ei voida hyvittää sen voimassaolon päätyttyä. Lahjakortteja ei lunasteta takaisin. Lippu.fi ei vastaa kadonneista, varastetuista eikä vahingoittuneista lahjakorteista. Saatuasi lahjakortit säilytä niitä huolellisesti. Mikäli tapahtuma johon lahjakortti on käytetty perutaan, Lippu.fi palauttaa asiakkaalle lahjakortin arvon rahana.<br><br><b>Lahjakortti toimii näin: </b>Lippu.fi-lahjakortilla voi ostaa lippuja ja tuotteita Lippu.fin verkkokaupasta. Lahjakortissa oleva numerosarja syötetään sille varattuun kenttään ostoskorin ensimmäisellä sivulla. Jos lahjakortin arvo on suurempi kuin ostoksen summa, loput lahjakortista voi käyttää myöhemmin. Mahdollisesti ylijäävää summaa ei ole mahdollista palauttaa rahana. Jos tilauksen summa on suurempi kuin lahjakortin arvo, voi jäljelle jäävän summan maksaa käyttämällä toista maksutapaa. Voit myös käyttää useita lahjakortteja samassa tilauksessa (markkinointitarkoitukseen jaettuja koodeja voi käyttää vain yhden/tilaus).<br><br><b>Huomioithan, että tilausmaksu 1,50 € + 0,65 %/tilaus lisätään summaan vasta ostoskorissa.</b> <br /><br />  Visit event in our website: <a href='https://tapahtumainfo.fi/tapahtuma/2027/12/verkkokaupan-lahjakortti/270418'>Tapahtumainfo.fi</a></body></html>
END:VEVENT
END:VCALENDAR
