BEGIN:VCALENDAR
VERSION:2.0
PRODID:-//tapahtumainfo.fi//NONSGML DBTL: 3 päivän lippu 2022//EN
METHOD:REQUEST
BEGIN:VEVENT
UID:20260419T161546-522974369-tapahtumainfo.fi
DTSTAMP:20260419T161546
DTSTART:20220728T020000Z
DTEND:20220728T020000Z
LOCATION:DBTL
SUMMARY:DBTL: 3 päivän lippu 2022
DESCRIPTION:<html><head></head><body> <br /><br />  Visit event in our website: <a href='https://tapahtumainfo.fi/tapahtuma/2022/07/dbtl-3-paivan-lippu-2022/272481'>Tapahtumainfo.fi</a></body></html>
END:VEVENT
END:VCALENDAR
