BEGIN:VCALENDAR
VERSION:2.0
PRODID:-//tapahtumainfo.fi//NONSGML SCREAMING THUNDERS PLAYS CCR & JOHN FOGERTY//EN
METHOD:REQUEST
BEGIN:VEVENT
UID:20260424T112859-1923139511-tapahtumainfo.fi
DTSTAMP:20260424T112859
DTSTART:20221118T190000Z
DTEND:20221118T020000Z
LOCATION:Louhisali, Espoon kulttuurikeskus
SUMMARY:SCREAMING THUNDERS PLAYS CCR & JOHN FOGERTY
DESCRIPTION:<html><head></head><body><b>Screaming Thunders plays CCR & John Fogerty</b><br><br>Eppu Normaalin harvan keikkatahdin aiheuttamaa esiintymisanemiaa potevat eppusoittajat ovat lievittäneet soittovieroitusoireitaan kokoonpanolla Screaming Thunders, jonka messevä svengi rankataan maan parhaisiin. Yhtyeen ohjelmisto koostuu rokin klassikoista, eli Creedence Clearwater Revival:in ja J.C. Fogertyn materiaalista.<br><br>Yhtyeen nykyinen laulusolisti Sami Hintsanen nauttii laulutaidoillaan valtakunnan tason luottamusta. Screaming Thunders tilataan paikalle aina, kun halutaan nauttia loistokkaasta livesoitosta!<br><br><b>Sami Hintsanen</b> (laulu), <b>Juha Torvinen</b> (kitara), <b>Sami Ruusukallio</b> (basso, laulu), <b>Aku Syrjä</b> (rummut, perkussiot), <b>Kalle Ruusukallio</b> (koskettimet)<br><br>Kesto 1 h 30 min, ei väliaikaa <br /><br />  Visit event in our website: <a href='https://tapahtumainfo.fi/tapahtuma/2022/11/screaming-thunders-plays-ccr-john-fogerty/272603'>Tapahtumainfo.fi</a></body></html>
END:VEVENT
END:VCALENDAR
