BEGIN:VCALENDAR
VERSION:2.0
PRODID:-//tapahtumainfo.fi//NONSGML TAMPERE-TALON LAHJAKORTTI VERKKOKAUPPAAN//EN
METHOD:REQUEST
BEGIN:VEVENT
UID:20260422T132547-1769702555-tapahtumainfo.fi
DTSTAMP:20260422T132547
DTSTART:20271231T235900Z
DTEND:20271231T020000Z
LOCATION:Lippu.fi lahjakortti
SUMMARY:TAMPERE-TALON LAHJAKORTTI VERKKOKAUPPAAN
DESCRIPTION:<html><head></head><body> <br /><br />  Visit event in our website: <a href='https://tapahtumainfo.fi/tapahtuma/2027/12/tampere-talon-lahjakortti-verkkokauppaan/273560'>Tapahtumainfo.fi</a></body></html>
END:VEVENT
END:VCALENDAR
