BEGIN:VCALENDAR
VERSION:2.0
PRODID:-//tapahtumainfo.fi//NONSGML Kaj Chydenius, Taru Nyman, Kai Hyttinen//EN
METHOD:REQUEST
BEGIN:VEVENT
UID:20260422T194016-932638941-tapahtumainfo.fi
DTSTAMP:20260422T194016
DTSTART:20220227T020000Z
DTEND:20220227T020000Z
LOCATION:Oriveden Kampus, Klemetti-sali
SUMMARY:Kaj Chydenius, Taru Nyman, Kai Hyttinen
DESCRIPTION:<html><head></head><body><p><strong></strong><strong>Tapahtuma on siirtynyt.</strong> <br></p><br /><p> Alkuperäiselle päivämäärälle 2.1.2022 ostetut liput tulevat käymään <br />tapahtumaan sellaisinaan. Halutessasi voit palauttaa <br />liput verkkosivuiltamme löytyvällä lomakkeella <a href="http://www.tiketti.fi/palautalippuja" target="_blank">www.tiketti.fi/palautalippuja</a> 24.2.2022 mennessä.</p><br /><p>***</p><br /><p><strong>Kaij<br />Chydenius, Taru Nyman</strong> sekä <strong>Kai Hyttinen</strong> saapuvat Oriveden Kampukselle<br />konsertoimaan heti alkavan vuoden alussa sunnuntaina 2.1.22.</p><br /><br /><p><strong>Liput ovella 20 €.</strong></p> <br /><br />  Visit event in our website: <a href='https://tapahtumainfo.fi/tapahtuma/2022/02/kaj-chydenius-taru-nyman-kai-hyttinen/278496'>Tapahtumainfo.fi</a></body></html>
END:VEVENT
END:VCALENDAR
