BEGIN:VCALENDAR
VERSION:2.0
PRODID:-//tapahtumainfo.fi//NONSGML TAPIOLA SINFONIETTAN LAHJAKORTTI//EN
METHOD:REQUEST
BEGIN:VEVENT
UID:20260425T203005-32286774-tapahtumainfo.fi
DTSTAMP:20260425T203005
DTSTART:20261231T235900Z
DTEND:20261231T020000Z
LOCATION:Tapiola Sinfonietta
SUMMARY:TAPIOLA SINFONIETTAN LAHJAKORTTI
DESCRIPTION:<html><head></head><body><b>Lahjakortti on voimassa vuoden ostopäivästä.</b><br>Lahjakortti käy maksuvälineenä Lippupisteen myyntipisteissä (EI R-kioskit eikä verkkokauppa)<br>Lahjakorttia ei voi vaihtaa rahaksi eikä sen voimassaoloaikaa voi pidentää.<br><br>Lahjakortin arvon päälle lisätään palvelumaksut listan mukaisesti<br><br>0 - 9,99€ -> 1,60€ <br>10 - 24,99€ -> 2,60€ <br>25 - 29,99€ -> 3,10€ <br>30 - 34,99€ -> 3,60€ <br>35 - 44,99€ -> 4,10€ <br>45€ ja yli -> 4,60€ <br /><br />  Visit event in our website: <a href='https://tapahtumainfo.fi/tapahtuma/2026/12/tapiola-sinfoniettan-lahjakortti/278955'>Tapahtumainfo.fi</a></body></html>
END:VEVENT
END:VCALENDAR
