BEGIN:VCALENDAR
VERSION:2.0
PRODID:-//tapahtumainfo.fi//NONSGML Hanaa Festarit//EN
METHOD:REQUEST
BEGIN:VEVENT
UID:20260422T193603-1131797203-tapahtumainfo.fi
DTSTAMP:20260422T193603
DTSTART:20220716T130000Z
DTEND:20220716T020000Z
LOCATION:Riihimäen tori
SUMMARY:Hanaa Festarit
DESCRIPTION:<html><head></head><body>Toista kertaa järjestettävät Hanaa Festarit saapuvat Riihimäelle <br />lauantaina 16.7.2022! Festareilla huikea kattaus suomalaisen Rap-musiikin esiintyjiä. <br /><br />Festareillla esiintyvät OG Ulla-Maija, Sairas T, Mäk Gälis, Paatti & Pavel, <br />Varomato ja JL. <br /><br />Lippu: 29,90 €<br /><br />Tapahtuma on K-18. <br /><br />Alueella on anniskelu, ruokamahdollisuus sekä saniteettitilat. <br />Ovet auki klo 13.<br />Liikuntarajoitteisilla esteetön pääsy ja kulkeminen festarialueella. <br /><br />  Visit event in our website: <a href='https://tapahtumainfo.fi/tapahtuma/2022/07/hanaa-festarit/284595'>Tapahtumainfo.fi</a></body></html>
END:VEVENT
END:VCALENDAR
