BEGIN:VCALENDAR
VERSION:2.0
PRODID:-//tapahtumainfo.fi//NONSGML Eino Grön & Iiro Rantala: Tuikkivat joulun tähtöset//EN
METHOD:REQUEST
BEGIN:VEVENT
UID:20260422T053628-1585144750-tapahtumainfo.fi
DTSTAMP:20260422T053628
DTSTART:20221220T190000Z
DTEND:20221220T201000Z
LOCATION:Sellosali
SUMMARY:Eino Grön & Iiro Rantala: Tuikkivat joulun tähtöset
DESCRIPTION:<html><head></head><body><p>Musiikin elävät legendat Eino Grön ja Iiro Rantala esittävät kauneimpia joululauluja yhdessä Veera Railion ja 12-henkisen Eikan enkelit -kuoron kanssa. Konsertin ohjelmistossa on talven valkoisimpia ja joulun punaisimpia ikivihreitä, kuten White Christmas, Sylvian joululaulu ja Varpunen jouluaamuna.</p><p>Eino Grön, laulu<br>Iiro Rantala, piano<br>Veera Railio, laulu, kuoronjohto<br>Eikan enkelit -kuoro</p><p>Kesto 1 h 10 min</p> <br /><br />  Visit event in our website: <a href='https://tapahtumainfo.fi/tapahtuma/2022/12/eino-gron-iiro-rantala-tuikkivat-joulun-tahtoset/290356'>Tapahtumainfo.fi</a></body></html>
END:VEVENT
END:VCALENDAR
