BEGIN:VCALENDAR
VERSION:2.0
PRODID:-//tapahtumainfo.fi//NONSGML Sirkus Tähti - MÄNTYHARJU//EN
METHOD:REQUEST
BEGIN:VEVENT
UID:20260425T192250-1178101609-tapahtumainfo.fi
DTSTAMP:20260425T192250
DTSTART:20220919T180000Z
DTEND:20220919T020000Z
LOCATION:SIRKUS TÄHTI
SUMMARY:Sirkus Tähti - MÄNTYHARJU
DESCRIPTION:<html><head></head><body>Sirkus Tähti on Suomen tunnetuin ja arvostetuin sirkus, joka on perustettu vuonna 1963. Se on kiertävä sirkus, joka esiintyy ympäri Suomea eri paikkakunnilla. Sirkus Tähden esiintyjät ovat monipuolisia taiteilijoita, jotka ovat erikoistuneet erilaisiin sirkustaiteen lajeihin. <br /><br />  Visit event in our website: <a href='https://tapahtumainfo.fi/tapahtuma/2022/09/sirkus-tahti-mantyharju/290704'>Tapahtumainfo.fi</a></body></html>
END:VEVENT
END:VCALENDAR
