BEGIN:VCALENDAR
VERSION:2.0
PRODID:-//tapahtumainfo.fi//NONSGML Mielensäpahoittaja Eskorttia etsimässä//EN
METHOD:REQUEST
BEGIN:VEVENT
UID:20260422T053547-776001953-tapahtumainfo.fi
DTSTAMP:20260422T053547
DTSTART:20230216T175000Z
DTEND:20230216T193900Z
LOCATION:Tapio, Joensuu, Tapio 4
SUMMARY:Mielensäpahoittaja Eskorttia etsimässä
DESCRIPTION:<html><head></head><body>Mielensäpahoittajan arki rullaa tuttujen rutiinien mukaan: kevät on tullut ja varhaisperunasato kypsyy. Mielensäpahoittaja kuitenkin kolaroi rakkaan Eskorttinsa ja auto täytyy romuttaa. Uusi, nykyaikainen kulkuneuvo ei käy laatuun ja lähin Eskortti vuosimallia 1972 löytyy Saksasta. Kun Mielensäpahoittajan pojat kieltäytyvät auttamasta, on hänen matkustettava Saksaan yksin.<br /><br />Mielensäpahoittaja tarvitsee Hampuriin saavuttuaan veljensä Tarmon apua. He eivät ole olleet tekemisissä vuosikymmeniin. Tarmo, joka on Mielensäpahoittajan täydellinen vastakohta, lupaa auttaa veljeään Eskortin etsinnässä. Auton etsinnän lomassa mutkaisen matkan varrella kaivetaan esiin veljesten väliset vanhat ja uudet kuopat.<br /><br />Mielensäpahoittaja Eskorttia etsimässä on lämminhenkinen elokuva sukupolvien kohtaamisesta vuosien jälkeen. <br /><br />  Visit event in our website: <a href='https://tapahtumainfo.fi/tapahtuma/2022/12/mielensapahoittaja-eskorttia-etsimassa/291603'>Tapahtumainfo.fi</a></body></html>
END:VEVENT
END:VCALENDAR
