BEGIN:VCALENDAR
VERSION:2.0
PRODID:-//tapahtumainfo.fi//NONSGML TUIKKIVAT JOULUN TÄHTÖSET//EN
METHOD:REQUEST
BEGIN:VEVENT
UID:20260422T053526-1507015223-tapahtumainfo.fi
DTSTAMP:20260422T053526
DTSTART:20221220T190000Z
DTEND:20221220T020000Z
LOCATION:Sellosali, Leppävaara
SUMMARY:TUIKKIVAT JOULUN TÄHTÖSET
DESCRIPTION:<html><head></head><body>Musiikin elävät legendat<b> Eino Grön</b> ja <b>Iiro Rantala</b> esittävät kauneimpia joululauluja yhdessä Veera Railion ja 12-henkisen Eikan enkelit -kuoron kanssa. Konsertin ohjelmistossa on talven valkoisimpia ja joulun punaisimpia ikivihreitä, kuten <i>White Christmas, Sylvian joululaulu</i> ja <i>Varpunen jouluaamuna</i>.<br><br>Esiintyjät: Eino Grön, laulu; Iiro Rantala, piano; Veera Railio, laulu ja kuoronjohto; Eikan Enkelit -kuoro. <br /><br />  Visit event in our website: <a href='https://tapahtumainfo.fi/tapahtuma/2022/12/tuikkivat-joulun-tahtoset/293641'>Tapahtumainfo.fi</a></body></html>
END:VEVENT
END:VCALENDAR
