BEGIN:VCALENDAR
VERSION:2.0
PRODID:-//tapahtumainfo.fi//NONSGML NIGHT VAAKUNA: WILLIAM K-18//EN
METHOD:REQUEST
BEGIN:VEVENT
UID:20260423T184635-1953937240-tapahtumainfo.fi
DTSTAMP:20260423T184635
DTSTART:20221014T220000Z
DTEND:20221014T020000Z
LOCATION:Night Vaakuna
SUMMARY:NIGHT VAAKUNA: WILLIAM K-18
DESCRIPTION:<html><head></head><body><b>Bar'n' Night Vaakuna, Mikkeli (Porrassalmenkatu 9) </b><br><b>K-18 </b><br><b>Ovet auki klo 22, showtime klo 24 </b><br><br>Ennakkoliput tulevat myyntiin aina kuukautta ennen keikkaa. <br /><br />  Visit event in our website: <a href='https://tapahtumainfo.fi/tapahtuma/2022/10/night-vaakuna-william-k-18/294150'>Tapahtumainfo.fi</a></body></html>
END:VEVENT
END:VCALENDAR
