BEGIN:VCALENDAR
VERSION:2.0
PRODID:-//tapahtumainfo.fi//NONSGML Tytyrin Elämyskaivoksen Lasten tahtiin kierrokset//EN
METHOD:REQUEST
BEGIN:VEVENT
UID:20260422T053653-1838804148-tapahtumainfo.fi
DTSTAMP:20260422T053653
DTSTART:20221231T130000Z
DTEND:20221231T020000Z
LOCATION:Visitlohja
SUMMARY:Tytyrin Elämyskaivoksen Lasten tahtiin kierrokset
DESCRIPTION:<html><head></head><body><b>Tytyrin elämyskaivos, Kuilukatu 42, Lohja</b><br />Tytyrin Elämyskaivoksen Lasten tahtiin kierros on tarkoitettu erityisesti lapsiperheille, pienten tahtiin kuljettavana, mutta kierros sopii myös aikuisille. Kierroksella tutustutaan oppaan johdolla Tytyrin kaivoksen maan alaiseen maailmaan perheen pienempien näkökulma huomioon ottaen.<br /><br />Valon ja värin leikkiä nähdään vaihtuvien taidenäyttelyiden muodossa ja kierros huipentuu valoteokseen, joka esitetään 100 metriä syvän ja 100 metriä leveän kaivoslouhoksen pinnalla.<br /><br />Aikuinen: 18 € <br />Opiskelija, eläkeläinen, työtön, varusmies: 15 € <br />Lapsi: 10 € ( 3-16v.)<br />Perhelippu: 53 € (2 aikuista ja max. 3 lasta)<br /><br />Kesto 1h 30min<br /><br />Huom!<br />Ethän tule kierrokselle nuhaisena tai muuten kipeänä.<br />Maan alla on +8 astetta lämmintä ja kypäräpakko. Kypärät saatte vierastuvalta ennen kierrokselle lähtöä <br /><br />  Visit event in our website: <a href='https://tapahtumainfo.fi/tapahtuma/2022/12/tytyrin-elamyskaivoksen-lasten-tahtiin-kierrokset/296247'>Tapahtumainfo.fi</a></body></html>
END:VEVENT
END:VCALENDAR
